BEGIN:VCALENDAR
VERSION:2.0
PRODID:-//ChamberMaster//Event Calendar 2.0//EN
METHOD:PUBLISH
X-PUBLISHED-TTL:P3D
REFRESH-INTERVAL:P3D
CALSCALE:GREGORIAN
BEGIN:VEVENT
DTSTART:20190827T110000Z
DTEND:20190827T130000Z
X-MICROSOFT-CDO-ALLDAYEVENT:FALSE
SUMMARY:Coffee and Cashflow Business Series
DESCRIPTION:We want you to be our personal guest on Tuesday\, August 27th at our FREE upcoming workshop\, "Attract\, Hire\, and Retain A-Grade Employees." Please feel free to share this email with your colleagues and other business leaders that you think may benefit.\n\n			\n\n			Do you find yourself constantly looking for the right person for the job?\n\n			Are you looking for the right traits in candidates?\n\n			Do you know where to find the right people?\n\n			\n\n			If you connected to any of these questions\, you are not alone. And sorting through these questions can seem like an overwhelming task. \n		\n	\n\n\n\n	\n		\n			In this workshop\, you will learn why your hiring and retention efforts aren't working...AND how to fix it\, plus:\n\n			\n				The 6 keys to build a winning team.\n				The most important characteristics you are probably overlooking.\n				The 16 cylinders of high performance every person has and how you can tap into them.\n				Where to find great people to want to join your team and not even think about going to your competition\n				How to write ads that attract the best of the best to want to apply and join your company\n			\n			Join us! Here are the details:\n\n			Date: Tuesday\, August 27\n\n			Time: Registration & Networking starts at 7:00am\n\n			Workshop 7:30am-9:00am\n\n			Location: 8233 Howe Industrial Pkwy\, Canal Winchester\, OH 43110\n\n			Investment: FREE!
X-ALT-DESC;FMTTYPE=text/html:&nbsp\;\n<table border="0" cellpadding="0" cellspacing="0" style="width:100.0%\;border-collapse:collapse\;" width="100%">\n	<tbody>\n		<tr>\n			<td style="padding:11.25pt 11.25pt 11.25pt 11.25pt\;"><span style="color:black\;"><span style="font-family:helvetica\,sans-serif\;"><span style="font-size:10.0pt\;">We want you to be our personal guest on <strong>Tuesday\, August 27th</strong> at our <strong>FREE</strong> upcoming workshop\, &ldquo\;<strong>Attract\, Hire\, and Retain A-Grade Employees.</strong>&rdquo\; Please feel free to share this email with your colleagues and other business leaders that you think may benefit.</span></span></span><br />\n			<br />\n			<strong><em><span style="color:#CA0D14\;"><span style="font-family:helvetica\,sans-serif\;"><span style="font-size:10.0pt\;">Do you find yourself constantly looking for the right person for the job?<br />\n			Are you looking for the right traits in candidates?<br />\n			Do you know where to find the right people?</span></span></span></em></strong><br />\n			<br />\n			<span style="color:black\;"><span style="font-family:helvetica\,sans-serif\;"><span style="font-size:10.0pt\;">If you connected to any of these questions\, you are not alone. And sorting through these questions can seem like an overwhelming task. </span></span></span></td>\n		</tr>\n	</tbody>\n</table>\n\n<table border="0" cellpadding="0" cellspacing="0" style="width:100.0%\;border-collapse:collapse\;" width="100%">\n	<tbody>\n		<tr>\n			<td style="padding:11.25pt 11.25pt 11.25pt 11.25pt\;"><span style="color:black\;"><span style="font-family:helvetica\,sans-serif\;"><span style="font-size:10.0pt\;">In this workshop\, you will learn why your hiring and retention efforts aren&#39\;t working...AND how to fix it\, plus:</span></span></span>\n\n			<ul>\n				<li style="color:black\;"><span style="font-family:helvetica\,sans-serif\;"><span style="font-size:10.0pt\;">The 6 keys to build a winning team.</span></span></li>\n				<li style="color:black\;"><span style="font-family:helvetica\,sans-serif\;"><span style="font-size:10.0pt\;">The most important characteristics you are probably overlooking.</span></span></li>\n				<li style="color:black\;"><span style="font-family:helvetica\,sans-serif\;"><span style="font-size:10.0pt\;">The 16 cylinders of high performance every person has and how you can tap into them.</span></span></li>\n				<li style="color:black\;"><span style="font-family:helvetica\,sans-serif\;"><span style="font-size:10.0pt\;">Where to find great people to want to join your team and not even think about going to your competition</span></span></li>\n				<li style="color:black\;margin-top:0in\;margin-bottom:0in\;margin-bottom:.0001pt\;"><span style="font-family:helvetica\,sans-serif\;"><span style="font-size:10.0pt\;">How to write ads that attract the best of the best to want to apply and join your company</span></span></li>\n			</ul>\n			<strong><span style="color:black\;"><span style="font-family:helvetica\,sans-serif\;"><span style="font-size:10.0pt\;">Join us! Here are the details:<br />\n			Date: </span></span></span></strong><span style="color:black\;"><span style="font-family:helvetica\,sans-serif\;"><span style="font-size:10.0pt\;">Tuesday\, August 27</span></span></span><br />\n			<span style="color:black\;"><span style="font-family:helvetica\,sans-serif\;"><span style="font-size:10.0pt\;"><strong>Time: </strong>Registration &amp\; Networking starts at 7:00am</span><br />\n			Workshop 7:30am-9:00am<br />\n			<strong>Location: </strong>8233 Howe Industrial Pkwy\, Canal Winchester\, OH 43110</span><br />\n			<strong>Investment: </strong>FREE!</span></td>\n		</tr>\n	</tbody>\n</table>\n
LOCATION:Buji ActionCoach The Tobin Center 8233 Howe Industrial Parkway Suite B Canal Winchester\, OH 43110
UID:e.1451.13333
SEQUENCE:3
DTSTAMP:20260425T204532Z
URL:https://business.pickeringtonchamber.com/events/details/coffee-and-cashflow-business-series-08-27-2019-13333
END:VEVENT

END:VCALENDAR
