BEGIN:VCALENDAR
VERSION:2.0
PRODID:-//ChamberMaster//Event Calendar 2.0//EN
METHOD:PUBLISH
X-PUBLISHED-TTL:P3D
REFRESH-INTERVAL:P3D
CALSCALE:GREGORIAN
BEGIN:VEVENT
DTSTART:20191120T153000Z
DTEND:20191120T163000Z
X-MICROSOFT-CDO-ALLDAYEVENT:FALSE
SUMMARY:Children's Music Garden - Pickerington Main Library
DESCRIPTION:Pickerington Main Library to unveil Children's Music Garden\n\n(Pickerington) - Pickerington Public Library\, 201 Opportunity Way\, will unveil its new outdoor Children's Music Garden at a ribbon cutting ceremony from 10:30 to 11:30 a.m. on Wednesday\, November 20\, 2019. The community is invited to attend.\n\n\n\nInstalled in the garden are four oversized percussion instruments\; a large babel drum\, rainbow sambas\, cavatina and tubular bells. \n\nThe music garden instruments were funded by Friends of the Pickerington Public Library.\n\n"The creation of the Children's Music Garden helps the library in accomplishing our vision by meeting the lifelong learning and enjoyment needs of our citizens and provides a fun and educational space outside of the building that is accessible to all." said Tony Howard\, Library Director\, "We recognize the benefits that music has on early literacy development by connecting singing\, reading\, talking in all of our early literacy classes. We hope to see visitors use the garden all year-round."\n\nFor more information on the library's classes and event offerings\, visit pickeringtonlibrary.org and click on the events page.
X-ALT-DESC;FMTTYPE=text/html:<p style="margin-top:0in\;margin-right:0in\;margin-bottom:12.0pt\;margin-left:\n0in"><u><span style="font-size:14.0pt\;font-family:&quot\;Arial&quot\;\,sans-serif">Pickerington Main Library to unveil Children&rsquo\;s Music Garden<o:p></o:p></span></u></p>\n\n<p style="margin-top:0in\;margin-right:0in\;margin-bottom:12.0pt\;margin-left:\n0in"><span style="font-family:&quot\;Arial&quot\;\,sans-serif">(Pickerington) - Pickerington Public Library\, 201 Opportunity Way\, will unveil its new outdoor Children&rsquo\;s Music Garden at a ribbon cutting ceremony from 10:30 to 11:30 a.m. on Wednesday\, November 20\, 2019. The community is invited to attend.<br />\n<br />\nInstalled in the garden are four oversized percussion instruments\; a large babel drum\, rainbow sambas\, cavatina and tubular bells. </span><o:p></o:p></p>\n\n<p style="margin-top:12.0pt\;margin-right:0in\;margin-bottom:12.0pt\;margin-left:\n0in"><span style="font-family:&quot\;Arial&quot\;\,sans-serif">The music garden instruments were funded by Friends of the Pickerington Public Library.<o:p></o:p></span></p>\n\n<p style="margin-top:12.0pt\;margin-right:0in\;margin-bottom:12.0pt\;margin-left:\n0in"><span style="font-family:&quot\;Arial&quot\;\,sans-serif">&ldquo\;The creation of the Children&rsquo\;s Music Garden helps the library in accomplishing our vision by meeting the lifelong learning and enjoyment needs of our citizens and provides a fun and educational space outside of the building that is accessible to all.&rdquo\; said Tony Howard\, Library Director\, &ldquo\;We recognize the benefits that music has on early literacy development by connecting singing\, reading\, talking in all of our early literacy classes. We hope to see visitors use the garden all year-round.&rdquo\;<o:p></o:p></span></p>\n\n<p style="margin-top:12.0pt\;margin-right:0in\;margin-bottom:12.0pt\;margin-left:\n0in"><span style="font-family:&quot\;Arial&quot\;\,sans-serif">For more information on the library&rsquo\;s classes and event offerings\, visit pickeringtonlibrary.org and click on the events page.<o:p></o:p></span></p>\n
LOCATION:Pickerington Main Library 201 Opportunity Way Pickerington\, OH 43147
UID:e.1451.13753
SEQUENCE:3
DTSTAMP:20260425T155811Z
URL:https://business.pickeringtonchamber.com/events/details/children-s-music-garden-pickerington-main-library-13753
END:VEVENT

END:VCALENDAR
