BEGIN:VCALENDAR
VERSION:2.0
PRODID:-//ChamberMaster//Event Calendar 2.0//EN
METHOD:PUBLISH
X-PUBLISHED-TTL:P3D
REFRESH-INTERVAL:P3D
CALSCALE:GREGORIAN
BEGIN:VEVENT
DTSTART:20200903T140000Z
DTEND:20200903T160000Z
X-MICROSOFT-CDO-ALLDAYEVENT:FALSE
SUMMARY:Central Ohio Chamber of Commerce Week - Benefits & Networking
DESCRIPTION:In an effort to bring awareness of local chamber of commerce organizations and their impact in our region\, 15 Central Ohio Chambers of Commerce will host a virtual Central Ohio Chamber of Commerce Week.\n\n\n\nEach day will focus on a different topic that all the chamber's value from advocacy to benefits to professional development and more. Guest speakers will include Lt. Governor Jon Husted\, C-Suite level area leader(s)\, Chamber benefit providers and more. Networking between local area chambers will also be available. \n\n\n\nEvent information will be posted onto Facebook\, and check your local chamber of commerce website for local event details and registration of special events
X-ALT-DESC;FMTTYPE=text/html:<p><span style="font-family:verdana\;"><span style="color: rgb(29\, 33\, 41)\; font-size: 14px\; white-space: pre-wrap\; background-color: rgb(255\, 255\, 255)\;">In an effort to bring awareness of local chamber of commerce organizations and their impact in our region\, 15 Central Ohio Chambers of Commerce will host a virtual Central Ohio Chamber of Commerce Week.</span><br style="color: rgb(29\, 33\, 41)\; font-family: Helvetica\, Arial\, sans-serif\; font-size: 14px\; white-space: pre-wrap\; background-color: rgb(255\, 255\, 255)\;" />\n<br style="color: rgb(29\, 33\, 41)\; font-family: Helvetica\, Arial\, sans-serif\; font-size: 14px\; white-space: pre-wrap\; background-color: rgb(255\, 255\, 255)\;" />\n<span style="color: rgb(29\, 33\, 41)\; font-size: 14px\; white-space: pre-wrap\; background-color: rgb(255\, 255\, 255)\;">Each day will focus on a different topic that all the chamber&rsquo\;s value from advocacy to benefits to professional development and more. Guest speakers will include Lt. Governor Jon Husted\, C-Suite level area leader(s)\, Chamber benefit providers and more. Networking between local area chambers will also be available. </span><br style="color: rgb(29\, 33\, 41)\; font-family: Helvetica\, Arial\, sans-serif\; font-size: 14px\; white-space: pre-wrap\; background-color: rgb(255\, 255\, 255)\;" />\n<br style="color: rgb(29\, 33\, 41)\; font-family: Helvetica\, Arial\, sans-serif\; font-size: 14px\; white-space: pre-wrap\; background-color: rgb(255\, 255\, 255)\;" />\n<span style="color: rgb(29\, 33\, 41)\; font-size: 14px\; white-space: pre-wrap\; background-color: rgb(255\, 255\, 255)\;">Event information will be posted onto Facebook\, and check your local chamber of commerce website for local event details and registration of special events</span></span></p>\n
LOCATION:Virtual Event Online Live Video
UID:e.1451.14570
SEQUENCE:3
DTSTAMP:20260424T233456Z
URL:https://business.pickeringtonchamber.com/events/details/central-ohio-chamber-of-commerce-week-benefits-networking-14570
END:VEVENT

END:VCALENDAR
