BEGIN:VCALENDAR
VERSION:2.0
PRODID:-//ChamberMaster//Event Calendar 2.0//EN
METHOD:PUBLISH
X-PUBLISHED-TTL:P3D
REFRESH-INTERVAL:P3D
CALSCALE:GREGORIAN
BEGIN:VEVENT
DTSTART:20200904T150000Z
DTEND:20200904T160000Z
X-MICROSOFT-CDO-ALLDAYEVENT:FALSE
SUMMARY:Central Ohio Chamber of Commerce Week
DESCRIPTION:Celebrate Central Ohio Chamber of Commerce Week September 1st to the 4th! This virtual event showcases the importance of local Chambers of Commerce in business advocacy and economic development.\n\n \n\n \n\n\nIn an effort to bring awareness of local chamber of commerce organizations and their impact in our region\, 15 Central Ohio Chambers of Commerce will host a virtual Central Ohio Chamber of Commerce Week.\n\n\n\nEach day will focus on a different topic that all the chamber's value from advocacy to benefits to professional development and more. Guest speakers will include Lt. Governor Jon Husted\, C-Suite level area leader(s)\, Chamber benefit providers and more. Networking between local area chambers will also be available. \n\n\n\nEvent information will be posted onto Facebook\, and check your local chamber of commerce website for local event details and registration of special events
X-ALT-DESC;FMTTYPE=text/html:<p><span style="font-size:16px\;"><em><strong><span style="font-family:verdana\;">Celebrate Central Ohio Chamber of Commerce Week September 1<sup>st</sup> to the 4<sup>th</sup>! This virtual event showcases the importance of local Chambers of Commerce in business advocacy and economic development.</span></strong></em></span><br />\n&nbsp\;</p>\n\n<p style="text-align: center\;">&nbsp\;</p>\n\n<hr />\n<p><em><span style="font-family:verdana\;"><span style="color: rgb(29\, 33\, 41)\; font-size: 14px\; white-space: pre-wrap\; background-color: rgb(255\, 255\, 255)\;">In an effort to bring awareness of local chamber of commerce organizations and their impact in our region\, 15 Central Ohio Chambers of Commerce will host a virtual Central Ohio Chamber of Commerce Week.</span><br style="color: rgb(29\, 33\, 41)\; font-family: Helvetica\, Arial\, sans-serif\; font-size: 14px\; white-space: pre-wrap\; background-color: rgb(255\, 255\, 255)\;" />\n<br style="color: rgb(29\, 33\, 41)\; font-family: Helvetica\, Arial\, sans-serif\; font-size: 14px\; white-space: pre-wrap\; background-color: rgb(255\, 255\, 255)\;" />\n<span style="color: rgb(29\, 33\, 41)\; font-size: 14px\; white-space: pre-wrap\; background-color: rgb(255\, 255\, 255)\;">Each day will focus on a different topic that all the chamber&rsquo\;s value from advocacy to benefits to professional development and more. Guest speakers will include Lt. Governor Jon Husted\, C-Suite level area leader(s)\, Chamber benefit providers and more. Networking between local area chambers will also be available. </span><br style="color: rgb(29\, 33\, 41)\; font-family: Helvetica\, Arial\, sans-serif\; font-size: 14px\; white-space: pre-wrap\; background-color: rgb(255\, 255\, 255)\;" />\n<br style="color: rgb(29\, 33\, 41)\; font-family: Helvetica\, Arial\, sans-serif\; font-size: 14px\; white-space: pre-wrap\; background-color: rgb(255\, 255\, 255)\;" />\n<span style="color: rgb(29\, 33\, 41)\; font-size: 14px\; white-space: pre-wrap\; background-color: rgb(255\, 255\, 255)\;">Event information will be posted onto Facebook\, and check your local chamber of commerce website for local event details and registration of special events</span></span></em></p>\n
LOCATION:Virtual Event Online Live Video
UID:e.1451.14571
SEQUENCE:3
DTSTAMP:20260425T010408Z
URL:https://business.pickeringtonchamber.com/events/details/central-ohio-chamber-of-commerce-week-14571
END:VEVENT

END:VCALENDAR
