BEGIN:VCALENDAR
VERSION:2.0
PRODID:-//ChamberMaster//Event Calendar 2.0//EN
METHOD:PUBLISH
X-PUBLISHED-TTL:P3D
REFRESH-INTERVAL:P3D
CALSCALE:GREGORIAN
BEGIN:VEVENT
DTSTART:20210429T193000Z
DTEND:20210429T220000Z
X-MICROSOFT-CDO-ALLDAYEVENT:FALSE
SUMMARY:Carlile Patchen & Murphy LLP- Business Strategies
DESCRIPTION:Please join us for a free virtual business strategies seminar. Our expert attorneys will share strategies for practical ways to tackle some areas of greatest concern for our clients when it comes to their businesses.\n"Defend Your Brand: Exploring the Basics of Trademark Law"\n\nPresented by: Drew Pinta\n\n \n\n"COVID-19 in the Workplace: Navigating Regulation Changes and Employee Questions"\n\nPresented by: Alicia Nesline Shaw\n\n \n\n"The IC-DISC: Scary Name\, Easy Savings"\n\nPresented by: Jordan Butler
X-ALT-DESC;FMTTYPE=text/html:<br />\n<span style="color: rgb(64\, 63\, 66)\; font-family: Arial\, sans-serif\; font-size: 14px\; text-align: center\;">Please join us for a free virtual business strategies seminar. Our expert attorneys will share strategies for practical ways to tackle some areas of greatest concern for our clients when it comes to their businesses.</span>\n<p align="center" style="-webkit-font-smoothing: antialiased\; color: rgb(50\, 49\, 48)\; font-size: 11pt\; font-family: Calibri\, sans-serif\; text-align: center\; margin: 0px\;"><b style="-webkit-font-smoothing: antialiased\;"><span style="-webkit-font-smoothing: antialiased\; margin: 0px\; padding: 0px\; border: 0px\; font-style: inherit\; font-variant: inherit\; font-weight: inherit\; font-stretch: inherit\; font-size: 10.5pt\; line-height: inherit\; font-family: Arial\, sans-serif\; vertical-align: baseline\; color: rgb(64\, 63\, 66)\;">&ldquo\;Defend Your Brand: Exploring the Basics of Trademark Law&rdquo\;</span></b></p>\n\n<p align="center" style="-webkit-font-smoothing: antialiased\; color: rgb(50\, 49\, 48)\; font-size: 11pt\; font-family: Calibri\, sans-serif\; text-align: center\; margin: 0px\;"><i style="-webkit-font-smoothing: antialiased\;"><span style="-webkit-font-smoothing: antialiased\; margin: 0px\; padding: 0px\; border: 0px\; font-style: inherit\; font-variant: inherit\; font-weight: inherit\; font-stretch: inherit\; font-size: 10.5pt\; line-height: inherit\; font-family: Arial\, sans-serif\; vertical-align: baseline\; color: rgb(64\, 63\, 66)\;">Presented by: Drew Pinta</span></i></p>\n\n<p align="center" style="-webkit-font-smoothing: antialiased\; color: rgb(50\, 49\, 48)\; font-size: 11pt\; font-family: Calibri\, sans-serif\; text-align: center\; margin: 0px\;"><span style="-webkit-font-smoothing: antialiased\; margin: 0px\; padding: 0px\; border: 0px\; font-style: inherit\; font-variant: inherit\; font-weight: inherit\; font-stretch: inherit\; font-size: 9pt\; line-height: inherit\; font-family: Arial\, sans-serif\; vertical-align: baseline\; color: rgb(64\, 63\, 66)\;">&nbsp\;</span></p>\n\n<p align="center" style="-webkit-font-smoothing: antialiased\; color: rgb(50\, 49\, 48)\; font-size: 11pt\; font-family: Calibri\, sans-serif\; text-align: center\; margin: 0px\;"><b style="-webkit-font-smoothing: antialiased\;"><span style="-webkit-font-smoothing: antialiased\; margin: 0px\; padding: 0px\; border: 0px\; font-style: inherit\; font-variant: inherit\; font-weight: inherit\; font-stretch: inherit\; font-size: 10.5pt\; line-height: inherit\; font-family: Arial\, sans-serif\; vertical-align: baseline\; color: rgb(64\, 63\, 66)\;">&ldquo\;COVID-19 in the Workplace: Navigating Regulation Changes and Employee Questions&rdquo\;</span></b></p>\n\n<p align="center" style="-webkit-font-smoothing: antialiased\; color: rgb(50\, 49\, 48)\; font-size: 11pt\; font-family: Calibri\, sans-serif\; text-align: center\; margin: 0px\;"><i style="-webkit-font-smoothing: antialiased\;"><span style="-webkit-font-smoothing: antialiased\; margin: 0px\; padding: 0px\; border: 0px\; font-style: inherit\; font-variant: inherit\; font-weight: inherit\; font-stretch: inherit\; font-size: 10.5pt\; line-height: inherit\; font-family: Arial\, sans-serif\; vertical-align: baseline\; color: rgb(64\, 63\, 66)\;">Presented by: Alicia Nesline Shaw</span></i></p>\n\n<p align="center" style="-webkit-font-smoothing: antialiased\; color: rgb(50\, 49\, 48)\; font-size: 11pt\; font-family: Calibri\, sans-serif\; text-align: center\; margin: 0px\;"><span style="-webkit-font-smoothing: antialiased\; margin: 0px\; padding: 0px\; border: 0px\; font-style: inherit\; font-variant: inherit\; font-weight: inherit\; font-stretch: inherit\; font-size: 9pt\; line-height: inherit\; font-family: Arial\, sans-serif\; vertical-align: baseline\; color: rgb(64\, 63\, 66)\;">&nbsp\;</span></p>\n\n<p align="center" style="-webkit-font-smoothing: antialiased\; color: rgb(50\, 49\, 48)\; font-size: 11pt\; font-family: Calibri\, sans-serif\; text-align: center\; margin: 0px\;"><b style="-webkit-font-smoothing: antialiased\;"><span style="-webkit-font-smoothing: antialiased\; margin: 0px\; padding: 0px\; border: 0px\; font-style: inherit\; font-variant: inherit\; font-weight: inherit\; font-stretch: inherit\; font-size: 10.5pt\; line-height: inherit\; font-family: Arial\, sans-serif\; vertical-align: baseline\; color: rgb(64\, 63\, 66)\;">&ldquo\;The IC-DISC: Scary Name\, Easy Savings&rdquo\;</span></b></p>\n\n<p align="center" style="-webkit-font-smoothing: antialiased\; color: rgb(50\, 49\, 48)\; font-size: 11pt\; font-family: Calibri\, sans-serif\; text-align: center\; margin: 0px\;"><i style="-webkit-font-smoothing: antialiased\;"><span style="-webkit-font-smoothing: antialiased\; margin: 0px\; padding: 0px\; border: 0px\; font-style: inherit\; font-variant: inherit\; font-weight: inherit\; font-stretch: inherit\; font-size: 10.5pt\; line-height: inherit\; font-family: Arial\, sans-serif\; vertical-align: baseline\; color: rgb(64\, 63\, 66)\;">Presented by: Jordan Butler</span></i></p>\n<br />\n<br />\n<br />\n<br />\n&nbsp\;
LOCATION:From the comfort of your own office/home!
UID:e.1451.15042
SEQUENCE:3
DTSTAMP:20260424T124550Z
URL:https://business.pickeringtonchamber.com/events/details/carlile-patchen-murphy-llp-business-strategies-15042
END:VEVENT

END:VCALENDAR
