BEGIN:VCALENDAR
VERSION:2.0
PRODID:-//ChamberMaster//Event Calendar 2.0//EN
METHOD:PUBLISH
X-PUBLISHED-TTL:P3D
REFRESH-INTERVAL:P3D
CALSCALE:GREGORIAN
BEGIN:VEVENT
DTSTART:20200915T193000Z
DTEND:20200915T210000Z
X-MICROSOFT-CDO-ALLDAYEVENT:FALSE
SUMMARY:Career Exploration & Discovery Workshop for High School Students
DESCRIPTION:About:\n\nThis workshop is providing career exploration and guidance to your son or daughter. This is achieved through career assessments\, industry speakers\, field trips and more. Then we move on to next steps such as career and academic planning. Materials included are:\n\n\n	Career Assessments\n	Tracking system for resume and scholarships\n	Volunteer App\n	USB with career resources\n	Transportation for field trips (depending on COVID-19)\n\n\nAll materials are included in the registration fee. Class maxes out at 12 students\, so be sure to register today!\n\nOnly 20 seats available! Learn more or register by going to www.designandrenew.com/high-school\n\n\n\nKey Learnings:\n\n\n	A better understanding of the many careers that exist\n	Confidence in choosing a career path\n	Your exact next steps to prepare for your career\n	How to track achievements\, volunteer hours\, and involvement for scholarships and resume!\n\nSchedule:\n\n \n\n	\n		\n			Workshop Schedule\n		\n		\n			 Tuesday\, \n			September 15\n			3:30 PM - 5:00 PM EST\n		\n		\n			 Tuesday\, \n			September 22\n			3:30 PM - 5:00 PM EST\n		\n		\n			 Tuesday\, \n			September 29\n			3:30 PM - 5:00 PM EST\n		\n		\n			Tuesday\, \n			October 6\n			3:30 PM - 5:00 PM EST\n		\n		\n			Tuesday\, \n			October 13\n			3:30 PM - 5:00 PM EST\n		\n		\n			Tuesday\, \n			October 20\n			3:30 PM - 5:00 PM EST\n		\n		\n			Tuesday\, \n			October 27\n			3:30 PM - 5:00 PM EST\n		\n		\n			Tuesday\, \n			November 3\n			3:30 PM - 5:00 PM EST\n		\n		\n			Tuesday\, \n			November 10\n			3:30 PM - 5:00 PM EST\n		\n		\n			 Tuesday\, \n			November 17\n			3:30 PM - 5:00 PM EST\n		\n		\n			 Tuesday\, \n			December 1\n			3:30 PM - 5:00 PM EST\n		\n		\n			Tuesday\, \n			December 8\n			3:30 PM - 5:00 PM EST
X-ALT-DESC;FMTTYPE=text/html:<p><span style="font-size:18px"><strong>About:</strong></span></p>\n\n<p><span style="font-size:12px">This workshop is providing&nbsp\;<strong>career exploration and guidance</strong>&nbsp\;to your son or daughter. This is achieved through&nbsp\;<strong>career assessments\, industry speakers\, field trips and more.</strong>&nbsp\;Then we move on to next steps such as&nbsp\;<strong>career and academic planning</strong>. Materials included are:</span></p>\n\n<ol>\n	<li><span style="font-size:12px">Career Assessments</span></li>\n	<li><span style="font-size:12px">Tracking system for resume and scholarships</span></li>\n	<li><span style="font-size:12px">Volunteer App</span></li>\n	<li><span style="font-size:12px">USB with career resources</span></li>\n	<li><span style="font-size:12px">Transportation for field trips (depending on COVID-19)</span></li>\n</ol>\n\n<p><span style="font-size:14pt"><span style="font-size:12px">All materials are included in the registration fee. Class maxes out at 12 students\, so be sure to register today!</span></span></p>\n\n<p>Only 20 seats available! Learn more or register by going to <a href="http://www.designandrenew.com/high-school">www.designandrenew.com/high-school</a><br />\n<br />\n<span style="font-size:18px"><strong>Key Learnings:</strong></span></p>\n\n<ul>\n	<li>A better understanding of the many careers that exist</li>\n	<li>Confidence in choosing a career path</li>\n	<li>Your exact next steps to prepare for your career</li>\n	<li>How to track achievements\, volunteer hours\, and involvement for scholarships and resume!</li>\n</ul>\n<span style="font-size:18px"><strong>Schedule:</strong></span><br />\n&nbsp\;\n<table style="color:rgb(3\, 152\, 158)\; font-family:helvetica\,sans-serif\; font-size:14px\; margin-left:auto\; margin-right:auto\; width:532px">\n	<tbody>\n		<tr>\n			<td colspan="3" style="text-align:center\; width:751px"><span style="font-size:18pt"><strong>Workshop Schedule</strong></span></td>\n		</tr>\n		<tr>\n			<td style="text-align:right\; width:160px"><span style="font-size:14pt">&nbsp\;Tuesday\,&nbsp\;</span></td>\n			<td style="width:204.333px"><span style="font-size:14pt">September 15</span></td>\n			<td style="width:386.667px"><span style="font-size:14pt">3:30 PM - 5:00 PM EST</span></td>\n		</tr>\n		<tr>\n			<td style="text-align:right\; width:160px"><span style="font-size:14pt">&nbsp\;Tuesday\,&nbsp\;</span></td>\n			<td style="width:204.333px"><span style="font-size:14pt">September 22</span></td>\n			<td style="width:386.667px"><span style="font-size:14pt">3:30 PM - 5:00 PM EST</span></td>\n		</tr>\n		<tr>\n			<td style="text-align:right\; width:160px"><span style="font-size:14pt">&nbsp\;Tuesday\,&nbsp\;</span></td>\n			<td style="width:204.333px"><span style="font-size:14pt">September 29</span></td>\n			<td style="width:386.667px"><span style="font-size:14pt">3:30 PM - 5:00 PM EST</span></td>\n		</tr>\n		<tr>\n			<td style="text-align:right\; width:160px"><span style="font-size:14pt">Tuesday\,&nbsp\;</span></td>\n			<td style="width:204.333px"><span style="font-size:14pt">October 6</span></td>\n			<td style="width:386.667px"><span style="font-size:14pt">3:30 PM - 5:00 PM EST</span></td>\n		</tr>\n		<tr>\n			<td style="text-align:right\; width:160px"><span style="font-size:14pt">Tuesday\,&nbsp\;</span></td>\n			<td style="width:204.333px"><span style="font-size:14pt">October 13</span></td>\n			<td style="width:386.667px"><span style="font-size:14pt">3:30 PM - 5:00 PM EST</span></td>\n		</tr>\n		<tr>\n			<td style="text-align:right\; width:160px"><span style="font-size:14pt">Tuesday\,&nbsp\;</span></td>\n			<td style="width:204.333px"><span style="font-size:14pt">October 20</span></td>\n			<td style="width:386.667px"><span style="font-size:14pt">3:30 PM - 5:00 PM EST</span></td>\n		</tr>\n		<tr>\n			<td style="text-align:right\; width:160px"><span style="font-family:verdana\,geneva\,sans-serif\; font-size:14pt">Tuesday\,&nbsp\;</span></td>\n			<td style="width:204.333px"><span style="font-family:verdana\,geneva\,sans-serif\; font-size:14pt">October 27</span></td>\n			<td style="width:386.667px"><span style="font-family:verdana\,geneva\,sans-serif\; font-size:14pt">3:30 PM - 5:00 PM EST</span></td>\n		</tr>\n		<tr>\n			<td style="text-align:right\; width:160px"><span style="font-size:14pt">Tuesday\,&nbsp\;</span></td>\n			<td style="width:204.333px"><span style="font-size:14pt">November 3</span></td>\n			<td style="width:386.667px"><span style="font-size:14pt">3:30 PM - 5:00 PM EST</span></td>\n		</tr>\n		<tr>\n			<td style="text-align:right\; width:160px"><span style="font-size:14pt">Tuesday\,&nbsp\;</span></td>\n			<td style="width:204.333px"><span style="font-size:14pt">November 10</span></td>\n			<td style="width:386.667px"><span style="font-size:14pt">3:30 PM - 5:00 PM EST</span></td>\n		</tr>\n		<tr>\n			<td style="text-align:right\; width:160px"><span style="font-size:14pt">&nbsp\;Tuesday\,&nbsp\;</span></td>\n			<td style="width:204.333px"><span style="font-size:14pt">November 17</span></td>\n			<td style="width:386.667px"><span style="font-size:14pt">3:30 PM - 5:00 PM EST</span></td>\n		</tr>\n		<tr>\n			<td style="text-align:right\; width:160px"><span style="font-size:14pt">&nbsp\;Tuesday\,&nbsp\;</span></td>\n			<td style="width:204.333px"><span style="font-size:14pt">December 1</span></td>\n			<td style="width:386.667px"><span style="font-size:14pt">3:30 PM - 5:00 PM EST</span></td>\n		</tr>\n		<tr>\n			<td style="text-align:right\; width:160px"><span style="font-size:14pt">Tuesday\,&nbsp\;</span></td>\n			<td style="width:204.333px"><span style="font-size:14pt">December 8</span></td>\n			<td style="width:386.667px"><span style="font-size:14pt">3:30 PM - 5:00 PM EST</span></td>\n		</tr>\n	</tbody>\n</table>\n
LOCATION:This is a virtual event through ZOOM The link will be sent to registrants two days prior to first event
UID:e.1451.14603
SEQUENCE:3
DTSTAMP:20260424T233309Z
URL:https://business.pickeringtonchamber.com/events/details/career-exploration-discovery-workshop-for-high-school-students-14603
END:VEVENT

END:VCALENDAR
