BEGIN:VCALENDAR
VERSION:2.0
PRODID:-//ChamberMaster//Event Calendar 2.0//EN
METHOD:PUBLISH
X-PUBLISHED-TTL:P3D
REFRESH-INTERVAL:P3D
CALSCALE:GREGORIAN
BEGIN:VEVENT
DTSTART:20200722T170000Z
DTEND:20200722T200000Z
X-MICROSOFT-CDO-ALLDAYEVENT:FALSE
SUMMARY:Car Wash for a Cause!
DESCRIPTION:Get your car washed for a great cause!
X-ALT-DESC;FMTTYPE=text/html:Get your car washed for a great cause!&nbsp\;
LOCATION:Violet Springs 603 Diley Rd Pickerington\, OH 43147
UID:e.1451.14522
SEQUENCE:3
DTSTAMP:20260425T024422Z
URL:https://business.pickeringtonchamber.com/events/details/car-wash-for-a-cause-14522
END:VEVENT

END:VCALENDAR
