BEGIN:VCALENDAR
VERSION:2.0
PRODID:-//ChamberMaster//Event Calendar 2.0//EN
METHOD:PUBLISH
X-PUBLISHED-TTL:P3D
REFRESH-INTERVAL:P3D
CALSCALE:GREGORIAN
BEGIN:VEVENT
DTSTART:20191009T220000Z
DTEND:20191009T230000Z
X-MICROSOFT-CDO-ALLDAYEVENT:FALSE
SUMMARY:Candidate Meet & Greet with Tezlyn Reardon
DESCRIPTION:Get out and meet and greet with Tezlyn Reardon\, running for Pickerington Schools Board of Education.
X-ALT-DESC;FMTTYPE=text/html:<br />\nGet out and meet and greet with Tezlyn Reardon\, running for Pickerington Schools Board of Education.
LOCATION:Pickerington Public Library 201 Opportunity Way Pickerington
UID:e.1451.13697
SEQUENCE:3
DTSTAMP:20260425T190821Z
URL:https://business.pickeringtonchamber.com/events/details/candidate-meet-greet-with-tezlyn-reardon-13697
END:VEVENT

END:VCALENDAR
