BEGIN:VCALENDAR
VERSION:2.0
PRODID:-//ChamberMaster//Event Calendar 2.0//EN
METHOD:PUBLISH
X-PUBLISHED-TTL:P3D
REFRESH-INTERVAL:P3D
CALSCALE:GREGORIAN
BEGIN:VEVENT
DTSTART:20211004T133000Z
DTEND:20211004T170000Z
X-MICROSOFT-CDO-ALLDAYEVENT:FALSE
SUMMARY:BWC Webinar- Accident Analysis
DESCRIPTION:
X-ALT-DESC;FMTTYPE=text/html:<br />\n&nbsp\;
LOCATION:Virtual How to Register in a VTC Visit the BWC Learning Center at www.bwclearningcenter.com Enroll into any class section within a course that has class sections listed as "virtual training" within the enrollment screen. Webex details are within your enrolled section information within LMS. Refer to "Enrolling" help document for more information. You will be contacted by a BWC Webex host 2-10 days before the training date. On the day of your scheduled VTC\, you will click on the URL sent to you by WebEx upon registering\, to enter the virtual classroom. See "join a WebEx" document for assistance joining the session. Future VTCs are entered into the LMS and promoted within the events page of BWCWeb
UID:e.1451.15474
SEQUENCE:3
DTSTAMP:20260424T030613Z
URL:https://business.pickeringtonchamber.com/events/details/bwc-webinar-accident-analysis-15474
END:VEVENT

END:VCALENDAR
