BEGIN:VCALENDAR
VERSION:2.0
PRODID:-//ChamberMaster//Event Calendar 2.0//EN
METHOD:PUBLISH
X-PUBLISHED-TTL:P3D
REFRESH-INTERVAL:P3D
CALSCALE:GREGORIAN
BEGIN:VEVENT
DTSTART:20210519T173000Z
DTEND:20210519T203000Z
X-MICROSOFT-CDO-ALLDAYEVENT:FALSE
SUMMARY:BWC Virtual Training - Work Zone Traffic Control
DESCRIPTION:BWC now offers virtual safety training classes. BWC virtual training classes (VTCs) provide an opportunity for students to learn remotely at the convenience of their home or worksite. VTCs are instructor-led classes providing the opportunity for participation and interaction consistent with the comparable BWC in-person class experience. VTCs offer the same continuing education units (CEUs)* and the same BWC program credits as the equivalent in-person class.\n\n\n\nSystem Requirements   Computer with microphone and speaker set-up utilizing a headset or other low feedback system   Internet access   Must download WebEx player before entering training   Must have a working email address in student's registration account within BWC Learning Center   iPads\, Android tablets\, and cell phone have limited functionality and we DO NOT recommend their use for online training\n\n\n\nNecessary for a Student Completion   Sufficient content time in WebEx to match credits assigned to class   Participation of classroom activities in WebEx   Completion of online knowledge assessment with passing score within 3 days after class   Student account at the BWC Learning Center (or LMS). The student account must complete the online knowledge assessment and match the name used to attend the class in WebEx
X-ALT-DESC;FMTTYPE=text/html:<br />\n<em>BWC now offers virtual safety training classes. BWC virtual training classes (VTCs) provide an opportunity for students to learn remotely at the convenience of their home or worksite. VTCs are instructor-led classes providing the opportunity for participation and interaction consistent with the comparable BWC in-person class experience. VTCs offer the same continuing education units (CEUs)* and the same BWC program credits as the equivalent in-person class.</em><br />\n<br />\n<strong>System Requirements</strong> &bull\; Computer with microphone and speaker set-up utilizing a headset or other low feedback system &bull\; Internet access &bull\; Must download WebEx player before entering training &bull\; Must have a working email address in student&rsquo\;s registration account within BWC Learning Center &bull\; iPads\, Android tablets\, and cell phone have limited functionality and we DO NOT recommend their use for online training<br />\n<br />\n<strong>Necessary for a Student Completion</strong> &bull\; Sufficient content time in WebEx to match credits assigned to class &bull\; Participation of classroom activities in WebEx &bull\; Completion of online knowledge assessment with passing score within 3 days after class &bull\; Student account at the BWC Learning Center (or LMS). The student account must complete the online knowledge assessment and match the name used to attend the class in WebEx
LOCATION:Virtual Training How to Register in a VTC Visit the BWC Learning Center at www.bwclearningcenter.com Enroll into any class section within a course that has class sections listed as "virtual training" within the enrollment screen. Webex details are within your enrolled section information within LMS. Refer to "Enrolling" help document for more information. You will be contacted by a BWC Webex host 2-10 days before the training date. On the day of your scheduled VTC\, you will click on the URL sent to you by WebEx upon registering\, to enter the virtual classroom. See "join a WebEx" document for assistance joining the session. Future VTCs are entered into the LMS and promoted within the events page of BWCWeb
UID:e.1451.15068
SEQUENCE:3
DTSTAMP:20260424T110615Z
URL:https://business.pickeringtonchamber.com/events/details/bwc-virtual-training-work-zone-traffic-control-15068
END:VEVENT

END:VCALENDAR
