BEGIN:VCALENDAR
VERSION:2.0
PRODID:-//ChamberMaster//Event Calendar 2.0//EN
METHOD:PUBLISH
X-PUBLISHED-TTL:P3D
REFRESH-INTERVAL:P3D
CALSCALE:GREGORIAN
BEGIN:VEVENT
DTSTART:20210608T173000Z
DTEND:20210608T180000Z
X-MICROSOFT-CDO-ALLDAYEVENT:FALSE
SUMMARY:BWC's Employer Update
DESCRIPTION:BWC's Monthly Employer Update Webinars are intended to inform BWC's employer community about new information\, provide updates on current topics\, and offer awareness of other subject matter important and pertinent to all BWC policyholders.
X-ALT-DESC;FMTTYPE=text/html:<table border="0" cellpadding="1" cellspacing="0" class="TblBgColor" style="font-family: ciscosansttregular\, &quot\;Helvetica Neue&quot\;\, Helvetica\, Arial\, sans-serif\;" width="100%">\n	<tbody style="box-sizing: border-box\;">\n		<tr class="TblContentFont3" style="box-sizing: border-box\; font-size: 14px\; color: rgb(0\, 0\, 0)\;">\n			<td style="box-sizing: border-box\;">\n			<div class="TextRenderEnhance" style="box-sizing: border-box\; display: inline\;">BWC&#39\;s Monthly Employer Update Webinars are intended to inform BWC&#39\;s employer community about new information\, provide updates on current topics\, and offer awareness of other subject matter important and pertinent to all BWC policyholders.</div>\n			</td>\n		</tr>\n	</tbody>\n</table>\n
LOCATION:Webinar
UID:e.1451.15318
SEQUENCE:3
DTSTAMP:20260424T110804Z
URL:https://business.pickeringtonchamber.com/events/details/bwc-s-employer-update-15318
END:VEVENT

END:VCALENDAR
