BEGIN:VCALENDAR
VERSION:2.0
PRODID:-//ChamberMaster//Event Calendar 2.0//EN
METHOD:PUBLISH
X-PUBLISHED-TTL:P3D
REFRESH-INTERVAL:P3D
CALSCALE:GREGORIAN
BEGIN:VEVENT
DTSTART:20210810T173000Z
DTEND:20210810T183000Z
X-MICROSOFT-CDO-ALLDAYEVENT:FALSE
SUMMARY:BWC Monthly Update Webinar
DESCRIPTION:Please join us for the August BWC Employer Update Webinar. This month\, we'll discuss the annual employer true-up\, BWC program updates\, claims cost reduction strategies\, important dates\, and our monthly safety tip. The webinar will last about 25 minutes.\n\n			Click these links to register:\n			\n				1:30 p.m. on Tuesday\, August 10 \n				11:30 a.m. on Thursday\, August 26 \n			\n			We'll also record this webinar and make it available for future viewing here.
X-ALT-DESC;FMTTYPE=text/html:<table align="center" border="0" cellpadding="0" cellspacing="0" style="width:100.0%\;border-collapse:collapse\;" width="100%">\n	<tbody>\n		<tr>\n			<td style="padding:0in 0in 0in 0in\;"><span style="color:black\;"><span style="font-family:arial\,sans-serif\;"><span style="font-size:11.5pt\;">Please join us for the August BWC Employer Update Webinar. This month\, we&#39\;ll discuss the annual employer true-up\, BWC program updates\, claims cost reduction strategies\, important dates\, and our monthly safety tip. The webinar will last about 25 minutes.</span></span></span><br />\n			<span style="color:black\;"><span style="font-family:arial\,sans-serif\;"><span style="font-size:11.5pt\;">Click these links to register:</span></span></span>\n			<ul>\n				<li style="color:black\;margin-bottom:11.25pt\;-webkit-text-size-adjust:100%\;-ms-text-size-adjust:100%\;"><span style="font-family:arial\,sans-serif\;"><span style="font-size:11.5pt\;">1:30 p.m. on <a href="https://lnks.gd/l/eyJhbGciOiJIUzI1NiJ9.eyJidWxsZXRpbl9saW5rX2lkIjoxMDAsInVyaSI6ImJwMjpjbGljayIsImJ1bGxldGluX2lkIjoiMjAyMTA3MzAuNDM5MDQ3MzEiLCJ1cmwiOiJodHRwczovL3N0YXRlb2ZvaGlvYndjLndlYmV4LmNvbS9zdGF0ZW9mb2hpb2J3Yy9vbnN0YWdlL2cucGhwP01USUQ9ZTNjYjY4Y2Y2ODU3ZDdhMTM3ZDRiZTU2M2ZmMTFjM2ZiIn0.TM9FhOoIxes0mko2gsVLBpJZa1-vtjGLqo2IJGlA3tQ/s/1131346693/br/110154823845-l" style="-webkit-text-size-adjust:100%\;-ms-text-size-adjust:100%\;" target="_blank"><span style="color:#53565A\;">Tuesday\, August 10</span></a> </span></span></li>\n				<li style="color:black\;margin-bottom:11.25pt\;-webkit-text-size-adjust:100%\;-ms-text-size-adjust:100%\;"><span style="font-family:arial\,sans-serif\;"><span style="font-size:11.5pt\;">11:30 a.m. on <a href="https://lnks.gd/l/eyJhbGciOiJIUzI1NiJ9.eyJidWxsZXRpbl9saW5rX2lkIjoxMDEsInVyaSI6ImJwMjpjbGljayIsImJ1bGxldGluX2lkIjoiMjAyMTA3MzAuNDM5MDQ3MzEiLCJ1cmwiOiJodHRwczovL3N0YXRlb2ZvaGlvYndjLndlYmV4LmNvbS9zdGF0ZW9mb2hpb2J3Yy9vbnN0YWdlL2cucGhwP01USUQ9ZTNlNTRkOWVkYTU3MTllY2I1OWMwZTY5MjkyZjYwNTBmIn0.cZLFKtFxZN6IjCVj1xPxcyAj8VcjgiSrjfqNNt2bWZw/s/1131346693/br/110154823845-l" style="-webkit-text-size-adjust:100%\;-ms-text-size-adjust:100%\;" target="_blank"><span style="color:#53565A\;">Thursday\, August 26</span></a> </span></span></li>\n			</ul>\n			<span style="color:black\;"><span style="font-family:arial\,sans-serif\;"><span style="font-size:11.5pt\;">We&rsquo\;ll also record this webinar and make it available for future viewing <a href="https://lnks.gd/l/eyJhbGciOiJIUzI1NiJ9.eyJidWxsZXRpbl9saW5rX2lkIjoxMDIsInVyaSI6ImJwMjpjbGljayIsImJ1bGxldGluX2lkIjoiMjAyMTA3MzAuNDM5MDQ3MzEiLCJ1cmwiOiJodHRwczovL2luZm8uYndjLm9oaW8uZ292L3dwcy9wb3J0YWwvZ292L2J3Yy9mb3ItZW1wbG95ZXJzL3dvcmtlcnMtY29tcGVuc2F0aW9uLW92ZXJ2aWV3L21lZGlhLWxpYnJhcnktZm9yLWVtcGxveWVycy9lbXBsb3llci13ZWJpbmFycyJ9.uRN5rgWTpltQy6a31QT6bYrB8cQWCADnuwG8fNM9vNA/s/1131346693/br/110154823845-l" style="-webkit-text-size-adjust:100%\;-ms-text-size-adjust:100%\;" target="_blank"><span style="color:#53565A\;">here</span></a>.</span></span></span></td>\n		</tr>\n	</tbody>\n</table>\n\n<div style="clear:both\;">&nbsp\;</div>\n
LOCATION:Virtual
UID:e.1451.15397
SEQUENCE:3
DTSTAMP:20260424T075342Z
URL:https://business.pickeringtonchamber.com/events/details/bwc-monthly-update-webinar-15397
END:VEVENT

END:VCALENDAR
