BEGIN:VCALENDAR
VERSION:2.0
PRODID:-//ChamberMaster//Event Calendar 2.0//EN
METHOD:PUBLISH
X-PUBLISHED-TTL:P3D
REFRESH-INTERVAL:P3D
CALSCALE:GREGORIAN
BEGIN:VEVENT
DTSTART:20210914T173000Z
DTEND:20210914T180000Z
X-MICROSOFT-CDO-ALLDAYEVENT:FALSE
SUMMARY:BWC Employer Webinar
DESCRIPTION:BWC's Monthly Employer Update Webinars are intended to inform BWC's employer community about new information\, provide updates on current topics\, and offer awareness of other subject matter important and pertinent to all BWC policyholders.
X-ALT-DESC;FMTTYPE=text/html:<br />\n<span style="font-size:16px\;"><span style="color: rgb(0\, 0\, 0)\; font-family: ciscosansttregular\, &quot\;Helvetica Neue&quot\;\, Helvetica\, Arial\, sans-serif\;">BWC&#39\;s Monthly Employer Update Webinars are intended to inform BWC&#39\;s employer community about new information\, provide updates on current topics\, and offer awareness of other subject matter important and pertinent to all BWC policyholders.</span></span>
LOCATION:Virtual- Register here
UID:e.1451.15460
SEQUENCE:3
DTSTAMP:20260424T044247Z
URL:https://business.pickeringtonchamber.com/events/details/bwc-employer-webinar-15460
END:VEVENT

END:VCALENDAR
