BEGIN:VCALENDAR
VERSION:2.0
PRODID:-//ChamberMaster//Event Calendar 2.0//EN
METHOD:PUBLISH
X-PUBLISHED-TTL:P3D
REFRESH-INTERVAL:P3D
CALSCALE:GREGORIAN
BEGIN:VEVENT
DTSTART:20210930T153000Z
DTEND:20210930T160000Z
X-MICROSOFT-CDO-ALLDAYEVENT:FALSE
SUMMARY:BWC Employer Update Webinar
DESCRIPTION:Please join us for the September BWC Employer Update Webinar. This month\, we'll discuss Primary and Secondary User E-Accounts on our website\, Experience Modifiers (EMs) and how they are calculated\, Substance Use Recovery and Workplace Safety Program grants\, important dates\, and our monthly safety tip. The webinar will last about 25 minutes.
X-ALT-DESC;FMTTYPE=text/html:&nbsp\;\n<p style="margin-top:0in\;margin-right:0in\;margin-bottom:11.25pt\;margin-left:\n0in"><span style="font-size:16px\;"><span style="font-family: Arial\, sans-serif\; color: black\;">Please join us for the September BWC Employer Update Webinar. This month\, we&#39\;ll discuss Primary and Secondary User E-Accounts on our website\, Experience Modifiers (EMs) and how they are calculated\, Substance Use Recovery and Workplace Safety Program grants\, important dates\, and our monthly safety tip. The webinar will last about 25 minutes.</span></span><span style="font-size:11.5pt\;font-family:&quot\;Arial&quot\;\,sans-serif\;color:black"><o:p></o:p></span></p>\n
LOCATION:Virtual: Please register!
UID:e.1451.15461
SEQUENCE:3
DTSTAMP:20260424T061950Z
URL:https://business.pickeringtonchamber.com/events/details/bwc-employer-update-webinar-15461
END:VEVENT

END:VCALENDAR
