BEGIN:VCALENDAR
VERSION:2.0
PRODID:-//ChamberMaster//Event Calendar 2.0//EN
METHOD:PUBLISH
X-PUBLISHED-TTL:P3D
REFRESH-INTERVAL:P3D
CALSCALE:GREGORIAN
BEGIN:VEVENT
DTSTART:20220324T130000Z
DTEND:20220324T140000Z
X-MICROSOFT-CDO-ALLDAYEVENT:FALSE
SUMMARY:Business Advocacy Committee Meeting
DESCRIPTION:Every business\, no matter large or small\, operates within a world of policy\, regulations\, laws\, and long-range planning. The Business Advocacy Committee of the Pickerington Area Chamber is committed to reviewing\, developing\, and supporting issues that promote a positive\, pro-active business environment. The Pickerington Area Chamber is the "Voice for Business" and our purpose is to work with our elected officials to establish regulations and policies that will affect the ability of a business to compete and continue to generate income and jobs that will improve the quality of life in the Pickerington region. We look forward to working with our local\, state\, and federal representatives on this agenda for stronger\, sustainable economic growth   focusing on the success for employers. We thank you for your support and continued engagement in these important endeavors.\n\nThis committee is open to any Pickerington Area Chamber Member. It meets monthly on the fourth Wednesday of the Month from 9:00-10:00 am.
X-ALT-DESC;FMTTYPE=text/html:<p style="box-sizing: border-box\; margin: 0px 0px 10px\; font-size: 16px\; color: rgb(102\, 51\, 102)\; font-family: Calibri\, Verdana\, Geneva\, sans-serif\; text-align: justify\;"><span style="box-sizing: border-box\; color: rgb(0\, 0\, 0)\;"><span style="box-sizing: border-box\;"><span style="box-sizing: border-box\; font-family: verdana\, geneva\, sans-serif\;">Every business\, no matter large or small\, operates within a world of policy\, regulations\, laws\, and long-range planning. The Business Advocacy Committee of the Pickerington Area Chamber is committed to reviewing\, developing\, and supporting issues that promote a positive\, pro-active business environment. The Pickerington Area Chamber is the &ldquo\;Voice for Business&rdquo\; and our purpose is to work with our elected officials to establish regulations and policies that will affect the ability of a business to compete and continue to generate income and jobs that will improve the quality of life in the Pickerington region. We look forward to working with our local\, state\, and federal representatives on this agenda for stronger\, sustainable economic growth &ndash\; focusing on the success for employers. We thank you for your support and continued engagement in these important endeavors.</span></span></span></p>\n\n<p style="box-sizing: border-box\; margin: 0px 0px 10px\; font-size: 16px\; color: rgb(102\, 51\, 102)\; font-family: Calibri\, Verdana\, Geneva\, sans-serif\; text-align: justify\;"><em style="box-sizing: border-box\;"><span style="box-sizing: border-box\; color: rgb(0\, 0\, 0)\;"><span style="box-sizing: border-box\;"><span style="box-sizing: border-box\; font-family: verdana\, geneva\, sans-serif\;">This committee is open to any Pickerington Area Chamber Member. It meets&nbsp\;monthly&nbsp\;on the fourth Wednesday of the Month from 9:00-10:00 am.&nbsp\;</span></span></span></em></p>\n
LOCATION:
UID:e.1451.15752
SEQUENCE:3
DTSTAMP:20260423T204812Z
URL:https://business.pickeringtonchamber.com/events/details/business-advocacy-committee-meeting-15752
END:VEVENT

END:VCALENDAR
