BEGIN:VCALENDAR
VERSION:2.0
PRODID:-//ChamberMaster//Event Calendar 2.0//EN
METHOD:PUBLISH
X-PUBLISHED-TTL:P3D
REFRESH-INTERVAL:P3D
CALSCALE:GREGORIAN
BEGIN:VEVENT
DTSTART:20190917T140000Z
DTEND:20190917T160000Z
X-MICROSOFT-CDO-ALLDAYEVENT:FALSE
SUMMARY:Brunch & Tour at the Hampton Inn by Hilton
DESCRIPTION:Join us on Tuesday\, September 17\, 2019\, for a "Brunch & Tour" at the newly renovated Hampton Inn by Hilton.  This open house event will feature a breakfast buffet\, tours of the newly renovated guest rooms\, and a look at the meeting space!\n\n\n\nCheck out this facility for your next business need\, whether needing to house an executive\, business partner\, training class\, family member\, and more!
X-ALT-DESC;FMTTYPE=text/html:<br />\nJoin us on <strong>Tuesday\, September 17\, 2019</strong>\, for a <strong>&quot\;Brunch &amp\; Tour&quot\;</strong> at the newly renovated <strong>Hampton Inn by Hilton</strong>.&nbsp\; This open house event will feature a breakfast buffet\, tours of the newly renovated guest rooms\, and a look at the meeting space!<br />\n<br />\nCheck out this facility for your next business need\, whether needing to house an executive\, business partner\, training class\, family member\, and more!
LOCATION:Hampton Inn by Hilton/Columbus 2093 Hamilton Rd. Columbus\, OH
UID:e.1451.13607
SEQUENCE:3
DTSTAMP:20260425T191741Z
URL:https://business.pickeringtonchamber.com/events/details/brunch-tour-at-the-hampton-inn-by-hilton-13607
END:VEVENT

END:VCALENDAR
