BEGIN:VCALENDAR
VERSION:2.0
PRODID:-//ChamberMaster//Event Calendar 2.0//EN
METHOD:PUBLISH
X-PUBLISHED-TTL:P3D
REFRESH-INTERVAL:P3D
CALSCALE:GREGORIAN
BEGIN:VEVENT
DTSTART;VALUE=DATE:20191207
DTEND;VALUE=DATE:20191208
TRANSP:TRANSPARENT
X-MICROSOFT-CDO-ALLDAYEVENT:TRUE
SUMMARY:Breakfast with Santa
DESCRIPTION:A breakfast meal is featured\, as are Christmas music\, a craft table for children\, a Secret Santa shop\, a bake sale and interaction with Santa Claus and Mrs. Claus.  \n\n\n\nTickets for the activity are ONLY available through Parks and Recreation Department from November 1 - December 5 or until sold out.  Make checks payable to City of Pickerington.  Now accepting Master Card and VISA.\n\n\n\nAll proceeds go to the Senior Center.
X-ALT-DESC;FMTTYPE=text/html:A breakfast meal is featured\, as are Christmas music\, a craft table for children\, a Secret Santa shop\, a bake sale and interaction with Santa Claus and Mrs. Claus.&nbsp\;&nbsp\;<br />\n<br />\nTickets for the activity are <strong>ONLY</strong> available through Parks and Recreation Department from November 1 - December 5 or until sold out.&nbsp\; Make checks payable to City of Pickerington.&nbsp\; Now accepting Master Card and VISA.<br />\n<br />\nAll proceeds go to the Senior Center.
LOCATION:Pickerington Senior Center 150 Hereford Drive Pickerington\, OH 43147
UID:e.1451.12942
SEQUENCE:3
DTSTAMP:20260425T140724Z
URL:https://business.pickeringtonchamber.com/events/details/breakfast-with-santa-12942
END:VEVENT

END:VCALENDAR
