BEGIN:VCALENDAR
VERSION:2.0
PRODID:-//ChamberMaster//Event Calendar 2.0//EN
METHOD:PUBLISH
X-PUBLISHED-TTL:P3D
REFRESH-INTERVAL:P3D
CALSCALE:GREGORIAN
BEGIN:VEVENT
DTSTART:20191002T200000Z
DTEND:20191003T030000Z
X-MICROSOFT-CDO-ALLDAYEVENT:FALSE
SUMMARY:Bottoms Up Diaper Drive Fundraiser at Combustion!
DESCRIPTION:Bottoms Up is hosting a fundraiser to support our families in need in Central Ohio. Bottoms Up Diaper Drive distributes donated diapers to families and moms in need in partnership with food pantries and childcare centers. Come out and enjoy drinks\, food\, and music. We will have a couple of raffles that you DO NOT want to miss!! 10% of all purchases go to Bottoms Up Diaper Drive. Bring friends and family have a great time and support Bottoms Up!
X-ALT-DESC;FMTTYPE=text/html:<br />\n<span style="color: rgb(29\, 33\, 41)\; font-family: Helvetica\, Arial\, sans-serif\; font-size: 14px\; white-space: pre-wrap\;">Bottoms Up is hosting a fundraiser to support our families in need in Central Ohio. Bottoms Up Diaper Drive distributes donated diapers to families and moms in need in partnership with food pantries and childcare centers. Come out and enjoy drinks\, food\, and music. We will have a couple of raffles that you DO NOT want to miss!! 10% of all purchases go to Bottoms Up Diaper Drive. Bring friends and family have a great time and support Bottoms Up!</span>
LOCATION:Combustion Brewery & Taproom 80 W. Church St. Pickerington
UID:e.1451.13680
SEQUENCE:3
DTSTAMP:20260425T173303Z
URL:https://business.pickeringtonchamber.com/events/details/bottoms-up-diaper-drive-fundraiser-at-combustion-13680
END:VEVENT

END:VCALENDAR
