BEGIN:VCALENDAR
VERSION:2.0
PRODID:-//ChamberMaster//Event Calendar 2.0//EN
METHOD:PUBLISH
X-PUBLISHED-TTL:P3D
REFRESH-INTERVAL:P3D
CALSCALE:GREGORIAN
BEGIN:VEVENT
DTSTART:20240721T180000Z
DTEND:20240804T180000Z
X-MICROSOFT-CDO-ALLDAYEVENT:FALSE
SUMMARY:Beauty and the Beast
DESCRIPTION:Join OHIO University Lancaster this summer as we step into the enchanted world of Broadway's classic\, Disney's "Beauty and the Beast"! Based on the Academy Award-winning animated feature\, the stage version includes all of the wonderful songs written by Alan Menken and the late Howard Ashman\, along with new songs by Mr. Menken and Tim Rice. The original Broadway production ran for over thirteen years and was nominated for nine Tony Awards\, including Best Musical. The classic story tells of Belle\, a young woman in a provincial town\, and the Beast\, who is really a young prince trapped under the spell of an enchantress. If the Beast can learn to love and be loved\, the curse will end and he will be transformed into his former self. But time is running out. If the Beast does not learn his lesson soon\, he and his household will be doomed for all eternity. This "tale as old as time" is filled with spectacular costume and set opportunities or\, even more simply staged\, Disney's Beauty and the Beast offers a great opportunity to bring your entire community together for family theatre at its best.
X-ALT-DESC;FMTTYPE=text/html:Join OHIO University Lancaster this summer as we step into the enchanted world of Broadway&#39\;s classic\, Disney&#39\;s &quot\;Beauty and the Beast&quot\;! Based on the Academy Award-winning animated feature\, the stage version includes all of the wonderful songs written by Alan Menken and the late Howard Ashman\, along with new songs by Mr. Menken and Tim Rice. The original Broadway production ran for over thirteen years and was nominated for nine Tony Awards\, including Best Musical. The classic story tells of Belle\, a young woman in a provincial town\, and the Beast\, who is really a young prince trapped under the spell of an enchantress. If the Beast can learn to love and be loved\, the curse will end and he will be transformed into his former self. But time is running out. If the Beast does not learn his lesson soon\, he and his household will be doomed for all eternity. This &quot\;tale as old as time&quot\; is filled with spectacular costume and set opportunities or\, even more simply staged\, Disney&#39\;s Beauty and the Beast offers a great opportunity to bring your entire community together for family theatre at its best.
LOCATION:1570 Granville Pike\, Lancaster\, OH 43130
UID:e.1451.16881
SEQUENCE:3
DTSTAMP:20260421T214447Z
URL:https://business.pickeringtonchamber.com/events/details/beauty-and-the-beast-16881
END:VEVENT

END:VCALENDAR
