BEGIN:VCALENDAR
VERSION:2.0
PRODID:-//ChamberMaster//Event Calendar 2.0//EN
METHOD:PUBLISH
X-PUBLISHED-TTL:P3D
REFRESH-INTERVAL:P3D
CALSCALE:GREGORIAN
BEGIN:VEVENT
DTSTART:20220914T160000Z
DTEND:20220914T170000Z
X-MICROSOFT-CDO-ALLDAYEVENT:FALSE
SUMMARY:Assisted Living Locators & Dementia Care Education Brain Health 2022 Session
DESCRIPTION:Hello All!  \n\n   Assisted Living Locators in partnership with Dementia Care Education\, is offering a FREE educational series called "Brain Health\, 2022."  One seminar session per month\, an owner's guide to successful aging\, optimal nutrition & understanding dementia. \n\nI'd like to invite you and your colleagues to gather for an hour this Wednesday at noon and take advantage of learning more about Alzheimer's and other dementia related diseases. August's topic is " Brain Nutrition Part 2: Your Gut and Your Brain"\, and is sure to provide optimal support and strategies to use with caregiving.  \n\nI welcome you to click on the link below to register and receive the link  for this informative event!  \n\nhttps://www.eventbrite.com/e/brain-nutrition-part-2-your-gut-and-your-brain-tickets-227840355637
X-ALT-DESC;FMTTYPE=text/html:<span style="color:rgb(60\, 64\, 67)\; font-family:roboto\,arial\,sans-serif\; font-size:14px">Hello All!&nbsp\;&nbsp\;</span><br />\n<span style="color:rgb(60\, 64\, 67)\; font-family:roboto\,arial\,sans-serif\; font-size:14px">&nbsp\; &nbsp\;Assisted Living Locators in partnership with Dementia Care Education\, is offering a FREE educational&nbsp\;series called &quot\;Brain Health\, 2022.&quot\;&nbsp\; One seminar session per month\, an owner&#39\;s guide to successful aging\, optimal nutrition &amp\; understanding dementia.&nbsp\;</span><br />\n<span style="color:rgb(60\, 64\, 67)\; font-family:roboto\,arial\,sans-serif\; font-size:14px">I&#39\;d like to invite you and your colleagues to gather for an hour this Wednesday at noon and take advantage of learning more about Alzheimer&#39\;s and other dementia related diseases. August&#39\;s&nbsp\;topic is &quot\; Brain Nutrition Part 2: Your Gut and Your Brain&quot\;\,&nbsp\;and is sure to provide optimal support and strategies to use with caregiving.&nbsp\;&nbsp\;</span><br />\n<span style="color:rgb(60\, 64\, 67)\; font-family:roboto\,arial\,sans-serif\; font-size:14px">I welcome you to click on the link below to register and receive the link&nbsp\; for this informative event!&nbsp\;&nbsp\;</span><br />\n<a href="https://www.google.com/url?q=https://www.eventbrite.com/e/brain-nutrition-part-2-your-gut-and-your-brain-tickets-227840355637&amp\;sa=D&amp\;source=calendar&amp\;ust=1660482229774444&amp\;usg=AOvVaw1cPcxWXONli3BceEcBwTZa" style="color: rgb(26\, 115\, 232)\; font-family: Roboto\, Arial\, sans-serif\; font-size: 14px\; letter-spacing: 0.2px\; white-space: pre-wrap\;" target="_blank">https://www.eventbrite.com/e/brain-nutrition-part-2-your-gut-and-your-brain-tickets-227840355637</a>
LOCATION:https://www.eventbrite.com/e/brain-nutrition-part-2-your-gut-and-your-brain-tickets-227840355637
UID:e.1451.15781
SEQUENCE:3
DTSTAMP:20260423T110013Z
URL:https://business.pickeringtonchamber.com/events/details/assisted-living-locators-dementia-care-education-brain-health-2022-session-15781
END:VEVENT

END:VCALENDAR
