BEGIN:VCALENDAR
VERSION:2.0
PRODID:-//ChamberMaster//Event Calendar 2.0//EN
METHOD:PUBLISH
X-PUBLISHED-TTL:P3D
REFRESH-INTERVAL:P3D
CALSCALE:GREGORIAN
BEGIN:VEVENT
DTSTART:20200130T153000Z
DTEND:20200130T160000Z
X-MICROSOFT-CDO-ALLDAYEVENT:FALSE
SUMMARY:Annual Dinner Committee Meeting
DESCRIPTION:Looking to volunteer?  Join us on Wednesday\, January 30\, 2020\, at 10:30 a.m. as we continue the Annual Awards Celebration committee meeting.  This is a great way to get involved with the Chamber\, make some new connections\, and help us make the Annual Awards Celebration on February 6th our BEST EVER!\n\n\n\nThe meeting will last 30-45 minutes.  Our request of volunteers is to help us secure silent auction donations\, help plan the centerpieces\, help with set-up and tear down of the event itself\, and then you are DONE!!!  One short month and a few short meetings!!!
X-ALT-DESC;FMTTYPE=text/html:Looking to volunteer?&nbsp\; Join us on Wednesday\, January 30\, 2020\, at 10:30 a.m. as we continue the Annual Awards Celebration committee meeting.&nbsp\; This is a great way to get involved with the Chamber\, make some new connections\, and help us make the Annual Awards Celebration on February 6th our BEST EVER!<br />\n<br />\nThe meeting will last 30-45 minutes.&nbsp\; Our request of volunteers is to help us secure silent auction donations\, help plan the centerpieces\, help with set-up and tear down of the event itself\, and then you are DONE!!!&nbsp\; One short month and a few short meetings!!!
LOCATION:Pickerington Area Chamber 21 Lockville Rd.\, Suite 100 Pickerington\, OH
UID:e.1451.14029
SEQUENCE:3
DTSTAMP:20260425T123100Z
URL:https://business.pickeringtonchamber.com/events/details/annual-dinner-committee-meeting-14029
END:VEVENT

END:VCALENDAR
