BEGIN:VCALENDAR
VERSION:2.0
PRODID:-//ChamberMaster//Event Calendar 2.0//EN
METHOD:PUBLISH
X-PUBLISHED-TTL:P3D
REFRESH-INTERVAL:P3D
CALSCALE:GREGORIAN
BEGIN:VEVENT
DTSTART:20201009T203000Z
DTEND:20201009T233000Z
X-MICROSOFT-CDO-ALLDAYEVENT:FALSE
SUMMARY:AMA Motorcycle Hall of Fame Fall Bike Night
DESCRIPTION:Motorcycle Hall of Fame Fall Bike Night\n \n\nOct. 9 event features free admission\, music\, trail riding\, food truck\n\n\nThe AMA Motorcycle Hall of Fame invites all motorcyclists and other community members to its Fall Bike Night\, 4:30-7:30 p.m. Oct. 9 at the American Motorcyclist Association campus in Pickerington\, Ohio.\n\n\n\nAMA Motorcycle Hall of Fame Bike Nights bring together motorcyclists of all backgrounds. Admission to the event is free.\n\nBike Night includes free admission to the Hall of Fame\, which houses motorcycles\, memorabilia and other displays connected to motorcycling racers\, innovators\, advocates and industry leaders.\n\n\n\nMusic will be provided by Capitol City Sound. And the Dos Hermanos Taco Truck (facebook.com/DosHermanosTacoTruck) will be selling food and beverages.\n\n\n\nThe AMA Motorcycle Hall of Fame Adventure Bike Challenge allows riders to test their big bike off-road skills. This is a short\, unguided AMA-sanctioned ride that includes tight trails with trees\, mud\, sand\, rocks\, log crossings\, uphills and downhills.\n\n\n\nFor a $5 donation to the Hall of Fame\, participants can ride as many loops as they like from 4:30-6 p.m. Ride with caution. Walking the course before riding it is recommended. Adventure or dual-sport bikes only. No competition bikes allowed.\n\n\n\nTickets will be available for a cash donation one ticket for a $5 donation or five tickets for a $20 for the Lords of the Board Track AMA Motorcycle Hall of Fame raffle bike\, which will be on display inside the museum. Learn more about the raffle bike at americanmotorcyclist.com/raffle-bike.\n\n\n\nTo mitigate exposure in light of the COVID-19 pandemic\, the following measures will be in place:\n\n\n	Indoor occupancy to the museum will be limited 70 visitors at a time.\n	Motorcycle parking will be spaced to allow social distancing.\n	Social distancing will be required for guests.\n	Face coverings are mandatory for staff and volunteers and encouraged for visitors.\n	Hand-sanitizing stations will be located throughout the facility.\n	Disinfecting wipes will be provided at high-touch areas.\n	Signs will convey current state guidelines.\n	Temperature checks and health questionnaires will be completed for staff members and volunteers.\n\nOhio requires that people wear masks in Fairfield County\, where the AMA is located\, in public buildings at all times and in outdoor public spaces whenever 6 feet of social distancing isn't possible.\n\n\n\nFor the full text of the mask order\, download this file: coronavirus.ohio.gov/static/publicorders/directors-order-facial-coverings.pdf.\n\n\n\nAbout the American Motorcyclist Association\n\nFounded in 1924\, the AMA is a not-for-profit member-based association whose mission is to promote the motorcycle lifestyle and protect the future of motorcycling. As the world's largest motorcycling rights and event sanctioning organization\, the AMA advocates for riders' interests at all levels of government and sanctions thousands of competition and recreational events every year. The AMA also provides money-saving discounts on products and services for its members. Through the AMA Motorcycle Hall of Fame in Pickerington\, Ohio\, the AMA honors the heroes and heritage of motorcycling. For more information\, visit americanmotorcyclist.com.\n\n\n\nNot a member? Join the AMA today: americanmotorcyclist.com.
X-ALT-DESC;FMTTYPE=text/html:<h1><span style="color:blue\;"><span style="font-family:arial\,sans-serif\;">Motorcycle Hall of Fame Fall Bike Night</span></span></h1>\n&nbsp\;\n\n<h2><em><span style="color:blue\;"><span style="font-family:arial\,sans-serif\;">Oct. 9 event features free admission\, music\, trail riding\, food truck</span></span></em></h2>\n<br />\n<span style="font-family:arial\,sans-serif\;">The AMA Motorcycle Hall of Fame invites all motorcyclists and other community members to its Fall Bike Night\, 4:30-7:30 p.m. Oct. 9 at the American Motorcyclist Association campus in Pickerington\, Ohio.</span><br />\n<br />\n<span style="font-family:arial\,sans-serif\;">AMA Motorcycle Hall of Fame Bike Nights bring together motorcyclists of all backgrounds. Admission to the event is free.</span><br />\n<span style="font-family:arial\,sans-serif\;">Bike Night includes free admission to the Hall of Fame\, which houses motorcycles\, memorabilia and other displays connected to motorcycling racers\, innovators\, advocates and industry leaders.</span><br />\n<br />\n<span style="font-family:arial\,sans-serif\;">Music will be provided by Capitol City Sound. And the Dos Hermanos Taco Truck (<a href="http://r20.rs6.net/tn.jsp?f=001pO1xFk9t-HiuZC7fJVFWfBzUDjXm9A9y1K2SCtAmppdA_RRgWMxZbSoRf4oV3Qtztnnj-NtkZ3o-QbM4et3pWgMo9JrqAoxrWXNCG7q0dFLFz9oFcmDW4rkTwSzdtEBN7aKURhrl_nsYaweII-R2rx4CguLIzVFkBVmWXgZ5UDE=&amp\;c=_dbVwux2k9Qz8A-PBiwZpZZ_XL6vR3VfWKTh8o6VpIt8doU4I5qDDw==&amp\;ch=JEiq-kolieDqvcpyIyIq34d4vEoSHoKAGbrNuz5MY3CpQ7EqKnxUfw==" target="_blank"><em><span style="color:blue\;"><span style="font-family:arial\,sans-serif\;">facebook.com/DosHermanosTacoTruck</span></span></em></a>) will be selling food and beverages.</span><br />\n<br />\n<span style="font-family:arial\,sans-serif\;">The AMA Motorcycle Hall of Fame Adventure Bike Challenge allows riders to test their big bike off-road skills. This is a short\, unguided AMA-sanctioned ride that includes tight trails with trees\, mud\, sand\, rocks\, log crossings\, uphills and downhills.</span><br />\n<br />\n<span style="font-family:arial\,sans-serif\;">For a $5 donation to the Hall of Fame\, participants can ride as many loops as they like from 4:30-6 p.m. Ride with caution. Walking the course before riding it is recommended. Adventure or dual-sport bikes only. No competition bikes allowed.</span><br />\n<br />\n<span style="font-family:arial\,sans-serif\;">Tickets will be available for a cash donation&mdash\;one ticket for a $5 donation or five tickets for a $20&mdash\;for the Lords of the Board Track AMA Motorcycle Hall of Fame raffle bike\, which will be on display inside the museum. Learn more about the raffle bike at <a href="http://r20.rs6.net/tn.jsp?f=001pO1xFk9t-HiuZC7fJVFWfBzUDjXm9A9y1K2SCtAmppdA_RRgWMxZbSoRf4oV3QtzGYmIj9g9P-eVQpPWA66AH2AcTxc1AfVSRW54OeLQ7SeWOckLNJzfUWcE0G9VyNUQYJyoU8x7_MvxLzoluJA6vp5MOXsRU8WeUk43O1LCYLM=&amp\;c=_dbVwux2k9Qz8A-PBiwZpZZ_XL6vR3VfWKTh8o6VpIt8doU4I5qDDw==&amp\;ch=JEiq-kolieDqvcpyIyIq34d4vEoSHoKAGbrNuz5MY3CpQ7EqKnxUfw==" target="_blank"><em><span style="color:blue\;"><span style="font-family:arial\,sans-serif\;">americanmotorcyclist.com/raffle-bike</span></span></em></a>.</span><br />\n<br />\n<span style="font-family:arial\,sans-serif\;">To mitigate exposure in light of the COVID-19 pandemic\, the following measures will be in place:</span>\n\n<ul>\n	<li><span style="font-family:arial\,sans-serif\;">Indoor occupancy to the museum will be limited 70 visitors at a time.</span></li>\n	<li><span style="font-family:arial\,sans-serif\;">Motorcycle parking will be spaced to allow social distancing.</span></li>\n	<li><span style="font-family:arial\,sans-serif\;">Social distancing will be required for guests.</span></li>\n	<li><span style="font-family:arial\,sans-serif\;">Face coverings are mandatory for staff and volunteers and encouraged for visitors.</span></li>\n	<li><span style="font-family:arial\,sans-serif\;">Hand-sanitizing stations will be located throughout the facility.</span></li>\n	<li><span style="font-family:arial\,sans-serif\;">Disinfecting wipes will be provided at high-touch areas.</span></li>\n	<li><span style="font-family:arial\,sans-serif\;">Signs will convey current state guidelines.</span></li>\n	<li><span style="font-family:arial\,sans-serif\;">Temperature checks and health questionnaires will be completed for staff members and volunteers.</span></li>\n</ul>\n<span style="font-family:arial\,sans-serif\;">Ohio requires that people wear masks in Fairfield County\, where the AMA is located\, in public buildings at all times and in outdoor public spaces whenever 6 feet of social distancing isn&rsquo\;t possible.</span><br />\n<br />\n<span style="font-family:arial\,sans-serif\;">For the full text of the mask order\, download this file: <a href="http://r20.rs6.net/tn.jsp?f=001pO1xFk9t-HiuZC7fJVFWfBzUDjXm9A9y1K2SCtAmppdA_RRgWMxZbSoRf4oV3Qtzwqh9tT3sZFAkYBjgCw4rpYsrreZqr28aGvAJ_0QvHNqRKJZqvHpD1bE_WA9MISmbJmW34EFidfyogSDusZJwKGRsYROmmy8k6N09e-X0D93HNhCMJoskz1531x6EvaPBraDf2Xf03OVyhfQGfG_g7jhMz65_z6emKRI7GwJuw4I=&amp\;c=_dbVwux2k9Qz8A-PBiwZpZZ_XL6vR3VfWKTh8o6VpIt8doU4I5qDDw==&amp\;ch=JEiq-kolieDqvcpyIyIq34d4vEoSHoKAGbrNuz5MY3CpQ7EqKnxUfw==" target="_blank"><em><span style="color:blue\;"><span style="font-family:arial\,sans-serif\;">coronavirus.ohio.gov/static/publicorders/directors-order-facial-coverings.pdf</span></span></em></a>.</span><br />\n<br />\n<strong><span style="font-family:arial\,sans-serif\;">About the American Motorcyclist Association</span></strong><br />\n<span style="font-family:arial\,sans-serif\;">Founded in 1924\, the AMA is a not-for-profit member-based association whose mission is to promote the motorcycle lifestyle and protect the future of motorcycling. As the world&#39\;s largest motorcycling rights and event sanctioning organization\, the AMA advocates for riders&#39\; interests at all levels of government and sanctions thousands of competition and recreational events every year. The AMA also provides money-saving discounts on products and services for its members. Through the AMA Motorcycle Hall of Fame in Pickerington\, Ohio\, the AMA honors the heroes and heritage of motorcycling. For more information\, visit <a href="http://r20.rs6.net/tn.jsp?f=001pO1xFk9t-HiuZC7fJVFWfBzUDjXm9A9y1K2SCtAmppdA_RRgWMxZbUaACsXxmLFDdw8CxAAREQLPL1T_IW1Y-KT340pEAGUzHwgiuLlXm0GNQRUW3l8onFmh4mLRpbDCliHvoSTjV6jDQTd0ojSfY-drDc9LMOQr&amp\;c=_dbVwux2k9Qz8A-PBiwZpZZ_XL6vR3VfWKTh8o6VpIt8doU4I5qDDw==&amp\;ch=JEiq-kolieDqvcpyIyIq34d4vEoSHoKAGbrNuz5MY3CpQ7EqKnxUfw==" target="_blank"><em><span style="color:blue\;"><span style="font-family:arial\,sans-serif\;">americanmotorcyclist.com</span></span></em></a>.</span><br />\n<br />\n<span style="font-family:arial\,sans-serif\;">Not a member? Join the AMA today: <a href="http://r20.rs6.net/tn.jsp?f=001pO1xFk9t-HiuZC7fJVFWfBzUDjXm9A9y1K2SCtAmppdA_RRgWMxZbZ6iuoLl8Xt7vsP3kcumbfLnP5FaHt5DF5G7f7vdDVM4Dl6X_4MxMcgq25cpSKof03K1kD0VbcC9M8Uaha8Kw6Ju3kruyAMCVKHVWu1hFmjF&amp\;c=_dbVwux2k9Qz8A-PBiwZpZZ_XL6vR3VfWKTh8o6VpIt8doU4I5qDDw==&amp\;ch=JEiq-kolieDqvcpyIyIq34d4vEoSHoKAGbrNuz5MY3CpQ7EqKnxUfw==" target="_blank"><em><span style="color:blue\;"><span style="font-family:arial\,sans-serif\;">americanmotorcyclist.com</span></span></em></a>.</span>
LOCATION:American Motorcyclist Association (AMA) 13515 Yarmouth Drive Pickerington\, OH 43147
UID:e.1451.14715
SEQUENCE:3
DTSTAMP:20260424T215910Z
URL:https://business.pickeringtonchamber.com/events/details/ama-motorcycle-hall-of-fame-fall-bike-night-14715
END:VEVENT

END:VCALENDAR
