BEGIN:VCALENDAR
VERSION:2.0
PRODID:-//ChamberMaster//Event Calendar 2.0//EN
METHOD:PUBLISH
X-PUBLISHED-TTL:P3D
REFRESH-INTERVAL:P3D
CALSCALE:GREGORIAN
BEGIN:VEVENT
DTSTART:20240619T203000Z
DTEND:20240619T220000Z
X-MICROSOFT-CDO-ALLDAYEVENT:FALSE
SUMMARY:After Hours Networking - Mackenzie River Pizza\, Grill & Pub
DESCRIPTION:Join us on June 19 at Mackenzie River Pizza\, Grill & Pub to meet and mingle with PACC members and prospective members. Appetizers will be provided at the beginning of the event.
X-ALT-DESC;FMTTYPE=text/html:Join us on June 19 at Mackenzie River Pizza\, Grill &amp\; Pub to meet and mingle with PACC members and prospective members. Appetizers will be provided at the beginning of the event.
LOCATION:Mackenzie River Pizza\, Grill & Pub 1281 Hill Rd N. Pickerington
UID:e.1451.16895
SEQUENCE:3
DTSTAMP:20260421T231818Z
URL:https://business.pickeringtonchamber.com/events/details/after-hours-networking-mackenzie-river-pizza-grill-pub-16895
END:VEVENT

END:VCALENDAR
