BEGIN:VCALENDAR
VERSION:2.0
PRODID:-//ChamberMaster//Event Calendar 2.0//EN
METHOD:PUBLISH
X-PUBLISHED-TTL:P3D
REFRESH-INTERVAL:P3D
CALSCALE:GREGORIAN
BEGIN:VEVENT
DTSTART:20230621T203000Z
DTEND:20230621T220000Z
X-MICROSOFT-CDO-ALLDAYEVENT:FALSE
SUMMARY:After-Hours Networking
DESCRIPTION:Join us on June 21 at Grapevine Pizza to meet and mingle with PACC members and prospective members. Pizza will be provided at the beginning of the event. Also\, during this time\, representatives will be available to provide more information on the PACC Committees and Networking Groups\, as well as member benefits (health insurance\, payroll processing\, credit card processing).
X-ALT-DESC;FMTTYPE=text/html:Join us on June 21 at Grapevine Pizza to meet and mingle with PACC members and prospective members. Pizza will be provided at the beginning of the event. Also\, during this time\, representatives will be available to provide more information on the PACC Committees and Networking Groups\, as well as member benefits (health insurance\, payroll processing\, credit card processing).
LOCATION:Grapevine Pizza & Cafe 8581 Refugee Rd. Pickerington\, OH 43147
UID:e.1451.16683
SEQUENCE:3
DTSTAMP:20260422T185606Z
URL:https://business.pickeringtonchamber.com/events/details/after-hours-networking-16683
END:VEVENT

END:VCALENDAR
