BEGIN:VCALENDAR
VERSION:2.0
PRODID:-//ChamberMaster//Event Calendar 2.0//EN
METHOD:PUBLISH
X-PUBLISHED-TTL:P3D
REFRESH-INTERVAL:P3D
CALSCALE:GREGORIAN
BEGIN:VEVENT
DTSTART:20210621T150000Z
DTEND:20210621T160000Z
X-MICROSOFT-CDO-ALLDAYEVENT:FALSE
SUMMARY:A PERRP-spective on the Fire Chief's Role in Compliance
DESCRIPTION:Roy is a Safety and Health Compliance Officer for the State of Ohio Public Employment Risk Reduction Program (PERRP) since 2016. Roy's safety experience is through direct experience at an automotive stamping plant\, an industrial and environmental cleaning company\, and as a Safety and Health Officer for the Ohio Department of Rehabilitation and Corrections. Areas of experience include\, OSHA General Industry\, Construction\, Industrial Fire Brigade\, Hazardous Materials (Technician\, Operations and IC)\, Emergency Medical Response\, Confined Space (supervision\, work and rescue)\, Asbestos abatement.\n\n\n\nAre you a fire chief that is responsible for staying compliant with PERRP? This webinar will provide you an overview of the PERRP program and the most common OSHA/PERRP standards identified at fire departments. Sign up to learn more about PERRP and how we can assist you with the requirements to remain compliant.
X-ALT-DESC;FMTTYPE=text/html:Roy is a Safety and Health Compliance Officer for the State of Ohio Public Employment Risk Reduction Program (PERRP) since 2016. Roy&rsquo\;s safety experience is through direct experience at an automotive stamping plant\, an industrial and environmental cleaning company\, and as a Safety and Health Officer for the Ohio Department of Rehabilitation and Corrections. Areas of experience include\, OSHA General Industry\, Construction\, Industrial Fire Brigade\, Hazardous Materials (Technician\, Operations and IC)\, Emergency Medical Response\, Confined Space (supervision\, work and rescue)\, Asbestos abatement.<br />\n<br />\nAre you a fire chief that is responsible for staying compliant with PERRP? This webinar will provide you an overview of the PERRP program and the most common OSHA/PERRP standards identified at fire departments. Sign up to learn more about PERRP and how we can assist you with the requirements to remain compliant.<br />\n&nbsp\;
LOCATION:Webinar
UID:e.1451.15325
SEQUENCE:3
DTSTAMP:20260424T094350Z
URL:https://business.pickeringtonchamber.com/events/details/a-perrp-spective-on-the-fire-chief-s-role-in-compliance-15325
END:VEVENT

END:VCALENDAR
