BEGIN:VCALENDAR
VERSION:2.0
PRODID:-//ChamberMaster//Event Calendar 2.0//EN
METHOD:PUBLISH
X-PUBLISHED-TTL:P3D
REFRESH-INTERVAL:P3D
CALSCALE:GREGORIAN
BEGIN:VEVENT
DTSTART:20210911T200000Z
DTEND:20210912T000000Z
X-MICROSOFT-CDO-ALLDAYEVENT:FALSE
SUMMARY:9/11 Motorcycle Hall of Fame Bike Night
DESCRIPTION:The AMA Motorcycle Hall of Fame invites all community members to its 9/11 AMA Motorcycle Hall of Fame Bike Night. At this event the AMA will be honoring First Responders and Military as well as commemorating 9/11. Some of the activities at the event include:  Free admission to the AMA Motorcycle Hall of Fame  Music provided by Capitol City Sounds  Food Trucks Burger Lab\, Smoky Trail BBQ\, and Kona Ice  Free gift when you join or renew your membership  First Responder vehicles on display including a firetruck\, EMRAP SWAT vehicle\, police mobile command unit\, patrol car\, Dare police car\, crime scene unit\, Police Motorcycle Unit  Local vendors\, including Motorcycle Ohio\, Fairfield Tourism and AMA-chartered clubs  Kids aged 3-7 can demo STACYC electric powered push bikes on a dirt course set up just for them  AMA Motorcycle Hall of Fame Adventure Bike Challenge For more information\, please contact Jennifer Finn at jfinn@ama-cycle.org
X-ALT-DESC;FMTTYPE=text/html:The AMA Motorcycle Hall of Fame invites all community members to its 9/11 AMA Motorcycle Hall of Fame Bike Night. At this event the AMA will be honoring First Responders and Military as well as commemorating 9/11. Some of the activities at the event include: &bull\;Free admission to the AMA Motorcycle Hall of Fame &bull\;Music provided by Capitol City Sounds &bull\;Food Trucks Burger Lab\, Smoky Trail BBQ\, and Kona Ice &bull\;Free gift when you join or renew your membership &bull\;First Responder vehicles on display including a firetruck\, EMRAP SWAT vehicle\, police mobile command unit\, patrol car\, Dare police car\, crime scene unit\, Police Motorcycle Unit &bull\;Local vendors\, including Motorcycle Ohio\, Fairfield Tourism and AMA-chartered clubs &bull\;Kids aged 3-7 can demo STACYC electric powered push bikes on a dirt course set up just for them &bull\;AMA Motorcycle Hall of Fame Adventure Bike Challenge For more information\, please contact Jennifer Finn at jfinn@ama-cycle.org
LOCATION:AMA Motorcycle Hall of Fame Museum 13515 Yarmouth Dr Pickerington\, OH 43147
UID:e.1451.15422
SEQUENCE:3
DTSTAMP:20260424T050118Z
URL:https://business.pickeringtonchamber.com/events/details/9-11-motorcycle-hall-of-fame-bike-night-15422
END:VEVENT

END:VCALENDAR
