BEGIN:VCALENDAR
VERSION:2.0
PRODID:-//ChamberMaster//Event Calendar 2.0//EN
METHOD:PUBLISH
X-PUBLISHED-TTL:P3D
REFRESH-INTERVAL:P3D
CALSCALE:GREGORIAN
BEGIN:VEVENT
DTSTART:20220108T150000Z
DTEND:20220108T180000Z
X-MICROSOFT-CDO-ALLDAYEVENT:FALSE
SUMMARY:4th Annual WINTER HIKE at Smeck Park
DESCRIPTION:Don't hibernate\, get outside!  Walk the Paw Paw and Walnut Creek trails then warm up with hot refreshments.\n\nThe hike will be approximately two miles long.  Most hikers will finish in less than an hour.  The trails are always open during daylight hours but those who wish to enjoy hot drinks and roasted potatoes with toppings should start the trail between 10:00 a.m. and noon.  Food will be served from 10:30 until 12:30 p.m.\n\nTrail conditions will vary based on weather.  Be prepared with appropriate footwear to hike in muddy or slippery conditions.\n\nPets are welcome but must always be under control and on a leash no longer than 6 .  For the health and safety of all\, always pick up and properly dispose of pets' waste.
X-ALT-DESC;FMTTYPE=text/html:<h3 style="text-align:justify"><span style="font-size:13px">Don&rsquo\;t hibernate\, get outside!&nbsp\; Walk the Paw Paw and Walnut Creek trails then warm up with hot refreshments.</span></h3>\n\n<p style="text-align:justify">The hike will be approximately two miles long.&nbsp\; Most hikers will finish in less than an hour.&nbsp\; The trails are always open during daylight hours but those who wish to enjoy hot drinks and roasted potatoes with toppings should start the trail between 10:00 a.m. and noon.&nbsp\; Food will be served from 10:30 until 12:30 p.m.</p>\n\n<p style="text-align:justify">Trail conditions will vary based on weather.&nbsp\; Be prepared with appropriate footwear to hike in muddy or slippery conditions.</p>\n\n<p style="text-align:justify">Pets are welcome but&nbsp\;<em>must always be under control</em>&nbsp\;and on a leash no longer than 6&prime\;.&nbsp\; For the health and safety of all\, always pick up and properly dispose of pets&rsquo\; waste.</p>\n
LOCATION:Smeck Park\; 7395 Basil Rd\; Baltimore\, OH 43105
UID:e.1451.15731
SEQUENCE:3
DTSTAMP:20260423T235920Z
URL:https://business.pickeringtonchamber.com/events/details/4th-annual-winter-hike-at-smeck-park-15731
END:VEVENT

END:VCALENDAR
