BEGIN:VCALENDAR
VERSION:2.0
PRODID:-//ChamberMaster//Event Calendar 2.0//EN
METHOD:PUBLISH
X-PUBLISHED-TTL:P3D
REFRESH-INTERVAL:P3D
CALSCALE:GREGORIAN
BEGIN:VEVENT
DTSTART:20240307T160000Z
DTEND:20240307T180000Z
X-MICROSOFT-CDO-ALLDAYEVENT:FALSE
SUMMARY:2024 State of Pickerington
DESCRIPTION:Presented by OhioHealth\n\n\n\nMarch 7\, 11:00 a.m. - 1 p.m.\n\nWigwam Event Center\n\n$35 registration (includes lunch and raffle ticket) | DEADLINE to Register is 5:00 p.m. February 28.\n\nVegetarian option(s) provided. We will do our best to accommodate you\, if you contact us in advance.\n\n\n\nMayor Lee Gray and a Township Trustee will provide an update on the City of Pickerington and Violet Township respectively. PLSD Superintendent Chris Briggs will provide an update on Pickerington Local School District.\n\n\n\nThis event is open to the community. $35 registration is required. Lunch will be provided\, and every registrant is entered in a drawing for a FREE Tour for 4 people from 3XP Tours\, which includes kayaking and biking around Buckeye Lake with stops at area restaurants/bars\, winery\, and brewery [$320 value].\n\nThe event will also include an exhibit area featuring local businesses and organizations.
X-ALT-DESC;FMTTYPE=text/html:<strong><span style="font-size:16px\;">Presented by OhioHealth</span><br />\n<br />\nMarch 7\, 11:00 a.m. - 1 p.m.<br />\nWigwam Event Center<br />\n$35 registration (includes lunch and raffle ticket) |&nbsp\;<span style="color: rgb(128\, 0\, 128)\;">DEADLINE to Register is 5:00 p.m. February 28.</span></strong><br />\n<em>Vegetarian option(s) provided. We will do our best to accommodate you\, if you contact us in advance.</em><br />\n<br />\n<strong>Mayor Lee Gray</strong> and a&nbsp\;<strong>Township Trustee</strong>&nbsp\;will provide an update on the City of Pickerington and Violet Township respectively. <strong>PLSD Superintendent Chris Briggs</strong> will provide an update on Pickerington Local School District.<br />\n<br />\nThis event is open to the community. $35 registration is required. Lunch will be provided\, and every registrant is entered in a drawing&nbsp\;for a FREE Tour for 4 people from 3XP Tours\, which includes kayaking and biking around Buckeye Lake with stops at area restaurants/bars\, winery\, and brewery [$320 value].<br />\nThe event will also include an exhibit area featuring local businesses and organizations.<br />\n&nbsp\;
LOCATION:Wigwam Event Center 10190 Blacklick-Eastern Rd. NW Pickerington\, OH 43147
UID:e.1451.16823
SEQUENCE:3
DTSTAMP:20260422T060924Z
URL:https://business.pickeringtonchamber.com/events/details/2024-state-of-pickerington-16823
END:VEVENT

END:VCALENDAR
