BEGIN:VCALENDAR
VERSION:2.0
PRODID:-//ChamberMaster//Event Calendar 2.0//EN
METHOD:PUBLISH
X-PUBLISHED-TTL:P3D
REFRESH-INTERVAL:P3D
CALSCALE:GREGORIAN
BEGIN:VEVENT
DTSTART:20230316T150000Z
DTEND:20230316T170000Z
X-MICROSOFT-CDO-ALLDAYEVENT:FALSE
SUMMARY:2023 State of Pickerington
DESCRIPTION:Presented by OhioHealth\n\n\n\nMarch 16\, 11:00 a.m. - 1 p.m.\n\nWigwam Event Center\n\n$30 registration (includes lunch and raffle ticket--see below) | DEADLINE to Register is 5:00 p.m. March 6.\n\nLunch will be prepared by StoryPoint's Executive Chef\, Shane Mueller. Vegetarian options provided. We will do our best to accommodate you\, if you contact us in advance.\n\n\n\nMayor Lee Gray and Township Trustee Lori Sanders will provide an update on the City of Pickerington and Violet Township respectively. PLSD Superintendent Chris Briggs will provide an update on Pickerington Local School District.\n\n\n\nThis event is open to the community. $30 registration is required. Lunch will be provided\, and every registrant is entered in a drawing for a FREE Corporate Challenge Tour for 10 people from 3XP Tours\, which includes kayaking\, biking\, and team building around Buckeye Lake with stops at Buckeye Lake's most famous restaurants\, bars\, winery and brewery. [$800 value]
X-ALT-DESC;FMTTYPE=text/html:<strong><span style="font-size:16px\;">Presented by OhioHealth</span><br />\n<br />\nMarch 16\, 11:00 a.m. - 1 p.m.<br />\nWigwam Event Center<br />\n$30 registration (includes lunch and raffle ticket--see below) |&nbsp\;<span style="color: rgb(128\, 0\, 128)\;">DEADLINE to Register is 5:00 p.m. March 6.</span></strong><br />\n<em>Lunch will be prepared by StoryPoint&#39\;s Executive Chef\, Shane Mueller. Vegetarian options provided. We will do our best to accommodate you\, if you contact us in advance.</em><br />\n<br />\n<strong>Mayor Lee Gray</strong> and <strong>Township Trustee Lori Sander</strong>s will provide an update on the City of Pickerington and Violet Township respectively. <strong>PLSD Superintendent Chris Briggs</strong> will provide an update on Pickerington Local School District.<br />\n<br />\nThis event is open to the community. $30 registration is required. Lunch will be provided\, and every registrant is entered in a drawing&nbsp\;for a FREE Corporate Challenge Tour for 10 people from 3XP Tours\, which includes kayaking\, biking\, and team building around Buckeye Lake with stops at Buckeye Lake&rsquo\;s most famous restaurants\, bars\, winery and brewery. [$800 value]<br />\n&nbsp\;
LOCATION:Wigwam Event Center 10190 Blacklick-Eastern Rd. NW Pickerington\, OH 43147
UID:e.1451.16262
SEQUENCE:3
DTSTAMP:20260422T234425Z
URL:https://business.pickeringtonchamber.com/events/details/2023-state-of-pickerington-16262
END:VEVENT

END:VCALENDAR
