BEGIN:VCALENDAR
VERSION:2.0
PRODID:-//ChamberMaster//Event Calendar 2.0//EN
METHOD:PUBLISH
X-PUBLISHED-TTL:P3D
REFRESH-INTERVAL:P3D
CALSCALE:GREGORIAN
BEGIN:VEVENT
DTSTART:20220818T153000Z
DTEND:20220818T170000Z
X-MICROSOFT-CDO-ALLDAYEVENT:FALSE
SUMMARY:2022 City of Pickerington & Violet Township Update
DESCRIPTION:Presented by Capitol Fence and Comparion Insurance Agency\n\n\n\nAugust 18\, 11:30 a.m. - 1 p.m.\n\n\n\nMayor Lee Gray and Township Trustee Darrin Monhollen will provide an update on the City or Pickerington and Violet Township. PLSD Superintendent Chris Briggs and CFO Ryan Jenkins will provide an update on Pickerington Local School District.\n\n\n\nThis event is open to the community (registration required). Lunch will be provided by SmokeOut BBQ.\n\n\n\nCorporate Lunch Sponsor: South Central Power\n\nCorporate Coffee/Beverage Sponsor: Dwayne R. Spence Funeral Home
X-ALT-DESC;FMTTYPE=text/html:<strong>Presented by Capitol Fence and Comparion Insurance Agency<br />\n<br />\nAugust 18\, 11:30 a.m. - 1 p.m.</strong><br />\n<br />\nMayor Lee Gray and Township Trustee Darrin Monhollen will provide an update on the City or Pickerington and Violet Township. PLSD Superintendent Chris Briggs and CFO Ryan Jenkins will provide an update on Pickerington Local School District.<br />\n<br />\nThis event is open to the community (registration required). Lunch will be provided by SmokeOut BBQ.<br />\n<br />\n<strong>Corporate Lunch Sponsor: <em>South Central Power</em><br />\nCorporate Coffee/Beverage Sponsor: <em>Dwayne R. Spence Funeral Home</em></strong>
LOCATION:Wigwam Event Center 10190 Blacklick-Eastern Rd. NW Pickerington\, OH 43147
UID:e.1451.15777
SEQUENCE:3
DTSTAMP:20260423T105828Z
URL:https://business.pickeringtonchamber.com/events/details/2022-city-of-pickerington-violet-township-update-15777
END:VEVENT

END:VCALENDAR
