BEGIN:VCALENDAR
VERSION:2.0
PRODID:-//ChamberMaster//Event Calendar 2.0//EN
METHOD:PUBLISH
X-PUBLISHED-TTL:P3D
REFRESH-INTERVAL:P3D
CALSCALE:GREGORIAN
BEGIN:VEVENT
DTSTART:20210922T140000Z
DTEND:20210922T190000Z
X-MICROSOFT-CDO-ALLDAYEVENT:FALSE
SUMMARY:2021 Candidate Video Interviews
DESCRIPTION:This event is for Candidates seeking election this Fall and are certified through the Fairfield County Board of Elections.  This is not an open event.
X-ALT-DESC;FMTTYPE=text/html:<br />\nThis event is for Candidates seeking election this Fall and are certified through the Fairfield County Board of Elections.&nbsp\; This is not an open event.&nbsp\;&nbsp\;
LOCATION:Pickerington Area Chamber 21 Lockville Rd.\, Suite 100 Pickerington
UID:e.1451.15418
SEQUENCE:3
DTSTAMP:20260424T044520Z
URL:https://business.pickeringtonchamber.com/events/details/2021-candidate-video-interviews-15418
END:VEVENT

END:VCALENDAR
