BEGIN:VCALENDAR
VERSION:2.0
PRODID:-//ChamberMaster//Event Calendar 2.0//EN
METHOD:PUBLISH
X-PUBLISHED-TTL:P3D
REFRESH-INTERVAL:P3D
CALSCALE:GREGORIAN
BEGIN:VEVENT
DTSTART:20191011T140000Z
DTEND:20191013T220000Z
X-MICROSOFT-CDO-ALLDAYEVENT:FALSE
SUMMARY:2019 GDEX Gaming Conference!
DESCRIPTION:GDEX is a Weekend Celebration of Games that attracts fans\, students and developers from across the country.  GDEX is the Industry Event of the Region\, offering more to do\, see\, and learn than any other Gaming and Creative Technology expo in the Midwest.  \n\n\n\nGDEX is the convention dedicate to a love of games and creative technology\, located in Columbus\, Ohio.  GDEX features a weekend expo showcase\, combined with presentation sessions\, artist alleys\, raffles\, tournaments\, and Charity events.  The GDEX expo is a curated showcase of some of the most exciting up and coming developers so that you see the latest games before anyone else!
X-ALT-DESC;FMTTYPE=text/html:<br />\nGDEX is a Weekend Celebration of Games that attracts fans\, students and developers from across the country.&nbsp\; GDEX is the Industry Event of the Region\, offering more to do\, see\, and learn than any other Gaming and Creative Technology expo in the Midwest.&nbsp\;&nbsp\;<br />\n<br />\nGDEX is the convention dedicate to a love of games and creative technology\, located in Columbus\, Ohio.&nbsp\; GDEX features a weekend expo showcase\, combined with presentation sessions\, artist alleys\, raffles\, tournaments\, and Charity events.&nbsp\; The GDEX expo is a curated showcase of some of the most exciting up and coming developers so that you see the latest games before anyone else!
LOCATION:Greater Columbus Convention Center 400 North High Street Columbus\, OH 43215
UID:e.1451.13684
SEQUENCE:3
DTSTAMP:20260425T172940Z
URL:https://business.pickeringtonchamber.com/events/details/2019-gdex-gaming-conference-13684
END:VEVENT

END:VCALENDAR
