BEGIN:VCALENDAR
VERSION:2.0
PRODID:-//ChamberMaster//Event Calendar 2.0//EN
METHOD:PUBLISH
X-PUBLISHED-TTL:P3D
REFRESH-INTERVAL:P3D
CALSCALE:GREGORIAN
BEGIN:VEVENT
DTSTART:20200206T230000Z
DTEND:20200207T013000Z
X-MICROSOFT-CDO-ALLDAYEVENT:FALSE
SUMMARY:2019 Annual Awards Celebration & Silent Auction
DESCRIPTION:Join us for the Annual Awards Celebration & Silent Auction\, sponsored by Diley Ridge Medical Center & Mount Carmel!  This is the largest event of the year and a can't miss opportunity to celebrate the business community\, share updates from the past year\, and make new connections throughout the evening at the Silent Auction! \n\n\n\nThe schedule for this year: \n\n\n\n6:00 p.m. - Doors open & Silent Auction Bidding Begins\n\nLight Hors d'oeuvres will be served\n\n7:00 p.m. Dinner Buffet & Silent Auction Bidding\n\n8:00 p.m. Awards Program\n\n8:30 p.m. Silent Auction Closes\n\n\n\nWe look forward to celebrating ALL of our Award Nominees and hope you will join us at this Annual Event!  Please take a moment and nominate the most outstanding business\, in each category\, for one of our Annual Businesses of the year.\n\n\n\nBusiness of the Year\n\nNominees\n\nHFM Publications\n\nRule 3\n\n\n\nThe Business of the Year Awards are given to businesses which have contributed to the economic vitality and demonstrated an unusual faith in the future business climate of the Pickerington Area.  The business must have operated for at least five years and be a member in good standing of the Pickerington Area Chamber.\n\n\n\nBusiness Diversity Award\n\nWINNER\n\n\n\nZ Promotions\n\n\n\nThe Diversity Award acknowledges the exceptional efforts of area businesses whose visible efforts foster greater appreciation\, advancement and celebration of diversity and inclusiveness in the Pickerington/Violet Township business community.  The business must have operated for at least five years and be a member in good standing of the Pickerington Area Chamber.\n\n\n\nRising Star Award\n\nNominees\n\n\n\nAR Workshop\n\nKula Yoga and Wellness\n\n\n\nThe Rising Star Awards are given to businesses which have contributed to the economic vitality and demonstrated an unusual faith in the future business climate of the Pickerington Area.  The business must have operated for less than five years and be a member in good standing of the Pickerington Area Chamber.\n\n\n\nNon-Profit of the Year\n\nNominees\n\n\n\nPickerington Public Library\n\nUnited Way of Fairfield County\n\n\n\nThe Non-Profit of the Year Award is given to an organization which has provided outstanding service to the Pickerington/Violet Township Communities\, demonstrated sound management practices and exceptional leadership. The organization must have operated for at least three years and be a member in good standing of the Pickerington Area Chamber.\n\n\n\nRegistration will close on Monday\, January 27\, 2020\, so be sure to RSVP!\n\n\n\nMany thanks to our amazing sponsor and rock-star volunteers that help to make this event a success!
X-ALT-DESC;FMTTYPE=text/html:<br />\n<span style="font-size:14px\;">Join us for the <strong>Annual Awards Celebration &amp\; Silent Auction\, </strong>sponsored by <strong>Diley Ridge Medical Center &amp\; Mount Carmel!</strong> &nbsp\;This is the largest event of the year and a can&#39\;t miss opportunity to celebrate the business community\, share updates from the past year\, and make new connections throughout the evening at the Silent Auction!&nbsp\;<br />\n<br />\n<strong>The schedule for this year:&nbsp\;</strong><br />\n<br />\n6:00 p.m. - Doors open &amp\; Silent Auction Bidding Begins<br />\nLight Hors d&#39\;oeuvres will be served<br />\n7:00 p.m.&nbsp\;Dinner Buffet &amp\; Silent Auction Bidding<br />\n8:00 p.m. Awards Program<br />\n8:30 p.m. Silent Auction Closes<br />\n<br />\nWe look forward to celebrating ALL of our Award Nominees and hope you will join us at this Annual Event!&nbsp\; Please take a moment and nominate the most outstanding business\, in each category\, for one of our Annual Businesses of the year.<br />\n<br />\n<strong><span style="font-family:arial\,sans-serif\;"><a href="https://chambermaster.blob.core.windows.net/userfiles/UserFiles/chambers/1451/File/2019_Annual_Awards/2019BusinessOfTheYearNomination.pdf">Business of the Year</a><br />\nNominees<br />\nHFM Publications<br />\nRule 3</span></strong><br />\n<br />\nThe Business of the Year Awards are given to businesses which have contributed to the economic vitality and demonstrated an unusual faith in the future business climate of the Pickerington Area.&nbsp\; The business must have operated for at&nbsp\;<u>least five years</u>&nbsp\;and be a member in good standing of the Pickerington Area Chamber.<br />\n<br />\n<span style="font-family:arial\,sans-serif\;"><a href="https://chambermaster.blob.core.windows.net/userfiles/UserFiles/chambers/1451/File/2019_Annual_Awards/2019DiversityAwardNomination.pdf"><strong>Business Diversity Award</strong></a></span><br />\n<strong>WINNER<br />\n<br />\nZ Promotions</strong><br />\n<br />\nThe Diversity Award acknowledges the exceptional efforts of area businesses whose visible efforts foster greater appreciation\, advancement and celebration of diversity and inclusiveness in the Pickerington/Violet Township business community.&nbsp\; The business must have operated for at <u>least five years</u> and be a member in good standing of the Pickerington Area Chamber.<br />\n<br />\n<span style="font-family:arial\,sans-serif\;"><a href="https://chambermaster.blob.core.windows.net/userfiles/UserFiles/chambers/1451/File/2019_Annual_Awards/2019RisingStarNomination.pdf"><strong>Rising Star Award</strong></a></span><br />\n<strong>Nominees<br />\n<br />\nAR Workshop<br />\nKula Yoga and Wellness</strong><br />\n<br />\nThe Rising Star Awards are given to businesses which have contributed to the economic vitality and demonstrated an unusual faith in the future business climate of the Pickerington Area.&nbsp\; The business must have operated for <u>less than five years</u> and be a member in good standing of the Pickerington Area Chamber.<br />\n<br />\n<span style="font-family:arial\,sans-serif\;"><a href="https://chambermaster.blob.core.windows.net/userfiles/UserFiles/chambers/1451/File/2019_Annual_Awards/2019Non-ProfitNomination.pdf"><strong>Non-Profit of the Year</strong></a></span><br />\n<strong>Nominees<br />\n<br />\nPickerington Public Library<br />\nUnited Way of Fairfield County</strong><br />\n<br />\nThe Non-Profit of the Year Award is given to an organization which has provided outstanding service to the Pickerington/Violet Township Communities\, demonstrated sound management practices and exceptional leadership. The organization must have operated for at <u>least three years</u> and be a member in good standing of the Pickerington Area Chamber.<br />\n<br />\nRegistration will close on Monday\, January 27\, 2020\, so be sure to RSVP!<br />\n<br />\nMany thanks to our amazing sponsor and rock-star volunteers that help to make this event a success!&nbsp\;&nbsp\;</span>
LOCATION:Wigwam Event Center 10190 Blacklick Eastern Rd. NW Pickerington\, OH
UID:e.1451.13821
SEQUENCE:3
DTSTAMP:20260425T110636Z
URL:https://business.pickeringtonchamber.com/events/details/2019-annual-awards-celebration-silent-auction-13821
END:VEVENT

END:VCALENDAR
