BEGIN:VCALENDAR
VERSION:2.0
PRODID:-//ChamberMaster//Event Calendar 2.0//EN
METHOD:PUBLISH
X-PUBLISHED-TTL:P3D
REFRESH-INTERVAL:P3D
CALSCALE:GREGORIAN
BEGIN:VEVENT
DTSTART:20191004T114500Z
DTEND:20191004T170000Z
X-MICROSOFT-CDO-ALLDAYEVENT:FALSE
SUMMARY:2019 A Day of ATHENA - "Becoming an ATHENA Leader"
DESCRIPTION:Join us on Friday\, October 4\, 2019\, for "A Day of ATHENA - Becoming an ATHENA Leader"\, presented by Cheryl Ricketts\, the 2018 ATHENA Leadership Award Recipient.  \n\n\n\nBecoming an Athena Leader?\n\nCrafting a Leadership Vision\, \n\nCreating Laser Focus\, and\n\nImplementing Your Plan\n\n \n\nLearning Objectives:  \n\n	   Understand the three Athena leadership components. \n	   Experience the diversity in how past Athena Leadership Award recipients made contributions in these areas. \n	   Assess competencies related to leadership.       \n	   Identifying your key focus areas. \n	   Understand how your values and daily choices impact personal competencies and your contributions. \n	   Tips for implementing your leadership and priorities plan.\n\n\nThis event features a half-day leadership/professional development workshop followed by the Awards luncheon where the recipients of the 2019 ATHENA Awards will be announced.  Join us for the workshop and luncheon or just the luncheon!
X-ALT-DESC;FMTTYPE=text/html:<br>\nJoin us on <strong>Friday\, October 4\, 2019</strong>\, for <strong>"A Day of ATHENA - Becoming an ATHENA Leader"</strong>\, presented by <strong>Cheryl Ricketts\,</strong> the <strong>2018 ATHENA Leadership Award Recipient.&nbsp\;</strong>&nbsp\;<br>\n<br>\n<strong><em><span style="color:#7030A0\;"><span style="font-family:times new roman\,serif\;"><span style="font-size:28.0pt\;">Becoming an Athena Leader?</span></span></span></em></strong><br>\n<strong><em><span style="font-family:times new roman\,serif\;"><span style="font-size:20.0pt\;">Crafting a Leadership Vision\, </span></span></em></strong><br>\n<strong><em><span style="font-family:times new roman\,serif\;"><span style="font-size:20.0pt\;">Creating Laser Focus</span></span></em></strong><strong><em><span style="font-family:times new roman\,serif\;"><span style="font-size:21.5pt\;">\, and</span></span></em></strong><br>\n<strong><em><span style="font-family:times new roman\,serif\;"><span style="font-size:20.0pt\;">Implementing Your Plan</span></span></em></strong><br>\n&nbsp\;<br>\nLearning Objectives:&nbsp\;&nbsp\;\n<ol>\n	<li style="margin-top:0in\;margin-right:0in\;margin-bottom:0in\;margin-bottom:.0001pt\;background-image:initial\;background-position:initial\;background-size:initial\;background-repeat:initial\;background-origin:initial\;background-clip:initial\;"><span style="font-family:times new roman\,serif\;">&nbsp\;&nbsp\; <strong><em><span style="color:black\;">Understand the three Athena leadership components.&nbsp\;</span></em></strong></span></li>\n	<li style="margin-top:0in\;margin-right:0in\;margin-bottom:0in\;margin-bottom:.0001pt\;background-image:initial\;background-position:initial\;background-size:initial\;background-repeat:initial\;background-origin:initial\;background-clip:initial\;" value="2"><span style="font-family:times new roman\,serif\;">&nbsp\;&nbsp\; <strong><em><span style="color:black\;">Experience the diversity in how past Athena Leadership Award recipients made contributions in these areas.&nbsp\;</span></em></strong></span></li>\n	<li style="margin-top:0in\;margin-right:0in\;margin-bottom:0in\;margin-bottom:.0001pt\;background-image:initial\;background-position:initial\;background-size:initial\;background-repeat:initial\;background-origin:initial\;background-clip:initial\;" value="3"><span style="font-family:times new roman\,serif\;">&nbsp\;&nbsp\; <strong><em><span style="color:black\;">Assess competencies related to leadership.&nbsp\;&nbsp\;&nbsp\;&nbsp\;&nbsp\;&nbsp\;&nbsp\;</span></em></strong></span></li>\n	<li style="margin-top:0in\;margin-right:0in\;margin-bottom:0in\;margin-bottom:.0001pt\;background-image:initial\;background-position:initial\;background-size:initial\;background-repeat:initial\;background-origin:initial\;background-clip:initial\;" value="4"><span style="font-family:times new roman\,serif\;">&nbsp\;&nbsp\; <strong><em><span style="color:black\;">Identifying your key focus areas.&nbsp\;</span></em></strong></span></li>\n	<li style="margin-top:0in\;margin-right:0in\;margin-bottom:0in\;margin-bottom:.0001pt\;background-image:initial\;background-position:initial\;background-size:initial\;background-repeat:initial\;background-origin:initial\;background-clip:initial\;" value="5"><span style="font-family:times new roman\,serif\;">&nbsp\;&nbsp\; <strong><em><span style="color:black\;">Understand how your values and daily choices impact personal competencies and your contributions.&nbsp\;</span></em></strong></span></li>\n	<li style="margin-top:0in\;margin-right:0in\;margin-bottom:0in\;margin-bottom:.0001pt\;background-image:initial\;background-position:initial\;background-size:initial\;background-repeat:initial\;background-origin:initial\;background-clip:initial\;" value="6"><span style="font-family:times new roman\,serif\;">&nbsp\; &nbsp\;<strong><em><span style="color:black\;">Tips for implementing your leadership and priorities plan.</span></em></strong></span></li>\n</ol>\n\n<div style="margin-top:0in\;margin-right:0in\;margin-bottom:0in\;margin-bottom:.0001pt\;background-image:initial\;background-position:initial\;background-size:initial\;background-repeat:initial\;background-origin:initial\;background-clip:initial\;"><span style="font-size:14px\;"><span style="font-family:times new roman\,serif\;"><span style="color:black\;">This event features a half-day leadership/professional development workshop followed by the Awards luncheon where the recipients of the 2019 ATHENA Awards will be announced.&nbsp\; Join us for the workshop and luncheon or just the luncheon!</span></span></span></div>\n
LOCATION:Wigwam Event Center 10190 Blacklick Eastern Rd. NW Pickerington
UID:e.1451.13446
SEQUENCE:3
DTSTAMP:20260425T190956Z
URL:https://business.pickeringtonchamber.com/events/details/2019-a-day-of-athena-becoming-an-athena-leader-13446
END:VEVENT

END:VCALENDAR
