BEGIN:VCALENDAR
VERSION:2.0
PRODID:-//ChamberMaster//Event Calendar 2.0//EN
METHOD:PUBLISH
X-PUBLISHED-TTL:P3D
REFRESH-INTERVAL:P3D
CALSCALE:GREGORIAN
BEGIN:VEVENT
DTSTART:20220119T120000Z
DTEND:20220119T130000Z
X-MICROSOFT-CDO-ALLDAYEVENT:FALSE
SUMMARY:20/20/20 with Darlene Kuzmic
DESCRIPTION:FREE 20/20/20 Fitness Class\n\nWhat: Get rid of those extra 20 lbs from 2020! This is a combined class called ?20/20/20?. The class consists of 20 minutes step (step provided)\, 20 minutes stability ball (bring your own along with hand weights)\, and 20 minutes of yoga (bring your mat). Please let me know you're coming so I can bring an extra step and/or stability ball if you do not have one.\n\nWhen: 7am every Wednesday\n\nWhere: Epiphany Lutheran\, 268 Hill Road North\, Pickerington\, OH 43147
X-ALT-DESC;FMTTYPE=text/html:<h4 style="font-family: &quot\;Libre Franklin&quot\;\, sans-serif\; box-sizing: inherit\; margin: 0px 0px 0.8em\; padding: 0px\; font-size: 1.25em\; font-weight: 600\; color: rgb(54\, 54\, 54)\; line-height: 1.125\;">FREE&nbsp\;20/20/20 Fitness Class</h4>\n\n<p style="font-family: &quot\;Libre Franklin&quot\;\, sans-serif\; box-sizing: inherit\; margin: 0px 0px 1em\; padding: 0px\; font-size: 16px\;"><b style="box-sizing: inherit\;">What:&nbsp\;</b>Get rid of those extra 20 lbs from 2020! This is a combined class called ?20/20/20?. The class consists of 20 minutes step (step provided)\, 20 minutes stability ball (bring your own along with hand weights)\, and 20 minutes of yoga (bring your mat). Please let me know you&#39\;re coming so I can bring an extra step and/or stability ball if you do not have one.</p>\n\n<p style="font-family: &quot\;Libre Franklin&quot\;\, sans-serif\; box-sizing: inherit\; margin: 0px 0px 1em\; padding: 0px\; font-size: 16px\;"><b style="box-sizing: inherit\;">When:&nbsp\;</b>7am every Wednesday</p>\n\n<p style="font-family: &quot\;Libre Franklin&quot\;\, sans-serif\; box-sizing: inherit\; margin: 0px\; padding: 0px\; font-size: 16px\;"><b style="font-family: &quot\;Libre Franklin&quot\;\, sans-serif\; font-size: 16px\; box-sizing: inherit\;">Where:&nbsp\;</b><span style="font-size: 16px\;"><span style="font-family: arial\;"><span style="color: black\;">Epiphany Lutheran\, 268 Hill Road North\, Pickerington\, OH 43147</span></span></span></p>\n
LOCATION:Where: Epiphany Lutheran\, 268 Hill Road North\, Pickerington\, OH 43147
UID:e.1451.15548
SEQUENCE:3
DTSTAMP:20260424T000051Z
URL:https://business.pickeringtonchamber.com/events/details/20-20-20-with-darlene-kuzmic-01-19-2022-15548
END:VEVENT

END:VCALENDAR
